BEGIN:VCALENDAR
VERSION:2.0
PRODID:-//American Job Center in Wheeling - ECPv6.0.13.1//NONSGML v1.0//EN
CALSCALE:GREGORIAN
METHOD:PUBLISH
X-WR-CALNAME:American Job Center in Wheeling
X-ORIGINAL-URL:https://www.ajcwheeling.com
X-WR-CALDESC:Events for American Job Center in Wheeling
REFRESH-INTERVAL;VALUE=DURATION:PT1H
X-Robots-Tag:noindex
X-PUBLISHED-TTL:PT1H
BEGIN:VTIMEZONE
TZID:America/Chicago
BEGIN:DAYLIGHT
TZOFFSETFROM:-0600
TZOFFSETTO:-0500
TZNAME:CDT
DTSTART:20250309T080000
END:DAYLIGHT
BEGIN:STANDARD
TZOFFSETFROM:-0500
TZOFFSETTO:-0600
TZNAME:CST
DTSTART:20251102T070000
END:STANDARD
END:VTIMEZONE
BEGIN:VEVENT
DTSTART;TZID=America/Chicago:20250320T093000
DTEND;TZID=America/Chicago:20250320T110000
DTSTAMP:20260422T132637
CREATED:20250112T205712Z
LAST-MODIFIED:20250112T205712Z
UID:10005908-1742463000-1742468400@www.ajcwheeling.com
SUMMARY:Excel Focus on Functions- Work with Text and Dates (Virtual Class)
DESCRIPTION:Excel Focus on Functions- Work with Text and Dates: CONCATENATE\, TODAY\, Flash Fill and Delimited Text\nText strings and dates can cause big problems in a spreadsheet if you’re not aware of how to identify and manipulate them! In this 90-minute webinar we’ll talk about basic text functions like CONCATENATE and date functions like TODAY. We’ll also explore tools like Flash Fill\, Text to Columns\, and delimited text. \nPRE-REGISTRATION IS REQUIRED FOR ATTENDING THIS WORKSHOP! Registration closes 24 hours prior to class. \n \nOnce you register\, you will receive the link to enter class shortly before class. Please watch for an email from North Cook Job Center <customercare@GoToWebinar.com>\n  \nPLEASE NOTE: \n\nYou must register as there is limited space for this virtual workshop.\n\n\nLog in 10 minutes prior to workshop. ABSOLUTELY NO ADMITTANCE after session starts. Be sure to allow enough time to log in.\n\n\nWorkshops are for individuals age 18+.\n\n\nIf you need to cancel\, please let us know a minimum of 48 hours prior to class so someone else on the waiting list can use your seat.\nPlease DO NOT REGISTER MORE THAN ONCE.\n\nThis American Job Center is committed to providing all customers with quality\, professional services as well as a safe and comfortable learning environment. The use of our resources implies acceptance of our Customer Code of Conduct\, which is based on the principle of respect for all customers and staff. READ: https://www.ajcwheeling.com/wp-content/uploads/2020/08/Customer-Code-of-Conduct-handout.pdf \nQUESTIONS? EMAIL contact@bcsillinois.org
URL:https://www.ajcwheeling.com/event/excel-focus-on-functions-work-with-text-and-dates-virtual-class-7/
CATEGORIES:Computer workshop
ATTACH;FMTTYPE=image/jpeg:https://www.ajcwheeling.com/wp-content/uploads/2024/08/MS-Excel-Advanced.jpg
ORGANIZER;CN="Business%20and%20Career%20Services%20Inc.":MAILTO:contact@bcsillinois.org
END:VEVENT
BEGIN:VEVENT
DTSTART;TZID=America/Chicago:20250320T100000
DTEND;TZID=America/Chicago:20250320T130000
DTSTAMP:20260422T132637
CREATED:20250219T145444Z
LAST-MODIFIED:20250219T151049Z
UID:10005984-1742464800-1742475600@www.ajcwheeling.com
SUMMARY:IDES JOB FAIR
DESCRIPTION:IDES / Mt. Prospect Library 10 S Emerson Street\, Mt. Prospect\, IL 60056\nJoin us for a Job Fair at the Mt. Prospect Library where Job Seekers have the opportunity to meet over multiple employer who have immediate employment openings and are ready to hire. Bring copies of your resume and be prepared to interview with some employers on the spot!\nThursday\, March 20\, 2025 10:00am– 1:00pm\n 
URL:https://www.ajcwheeling.com/event/ides-job-fair-4/
LOCATION:Mt. Prospect Public Library\, 10 S Emerson St\, Mt Prospect\, 60056
CATEGORIES:Job Fair
ATTACH;FMTTYPE=image/jpeg:https://www.ajcwheeling.com/wp-content/uploads/2024/11/hired-youre-hired.jpg
END:VEVENT
BEGIN:VEVENT
DTSTART;TZID=America/Chicago:20250320T100000
DTEND;TZID=America/Chicago:20250320T140000
DTSTAMP:20260422T132637
CREATED:20250219T163258Z
LAST-MODIFIED:20250219T163258Z
UID:10005985-1742464800-1742479200@www.ajcwheeling.com
SUMMARY:Peoples Plan Hiring Event
DESCRIPTION:
URL:https://www.ajcwheeling.com/event/peoples-plan-hiring-event/
LOCATION:JLM Abundant Life Center\, 2622 W Jackson Blvd\, Chicago\, IL\, 60612\, United States
CATEGORIES:Hiring Event
ATTACH;FMTTYPE=image/jpeg:https://www.ajcwheeling.com/wp-content/uploads/2025/02/2025.03.20-mocs-graphic.jpg
END:VEVENT
BEGIN:VEVENT
DTSTART;TZID=America/Chicago:20250320T110000
DTEND;TZID=America/Chicago:20250320T140000
DTSTAMP:20260422T132637
CREATED:20250317T171539Z
LAST-MODIFIED:20250317T171539Z
UID:10006018-1742468400-1742479200@www.ajcwheeling.com
SUMMARY:State of Illinois Spring Career Fair
DESCRIPTION:
URL:https://www.ajcwheeling.com/event/state-of-illinois-spring-career-fair/
LOCATION:Malcom X College\, 1900 W Jackson Blvd\, Chicago\, IL\, 60612\, United States
CATEGORIES:Job Fair
ATTACH;FMTTYPE=image/jpeg:https://www.ajcwheeling.com/wp-content/uploads/2025/03/2025.03.20-sTATE-OF-iLLINOIS-jOB-fAIR.jpg
END:VEVENT
BEGIN:VEVENT
DTSTART;TZID=America/Chicago:20250320T120000
DTEND;TZID=America/Chicago:20250320T160000
DTSTAMP:20260422T132637
CREATED:20250219T180655Z
LAST-MODIFIED:20250219T182506Z
UID:10005991-1742472000-1742486400@www.ajcwheeling.com
SUMMARY:Free Certified Tax Preparation
DESCRIPTION:FREE Certified Tax Preparation \nFebruary to April 2025 \nThursday afternoons in Prospect Heights \nBY APPOINTMENT ONLY\n \nOR CALL 847.385.6001 \nclick below to download flyer \nAARP 2025 Flyer (003) taxes weekly from Feb thru April
URL:https://www.ajcwheeling.com/event/free-certified-tax-preparation/2025-03-20/
LOCATION:Harper College Learning and Career Center\, 1375 South Wolf Road\, Prospect Heights\, IL\, 60070\, United States
CATEGORIES:AARP
ATTACH;FMTTYPE=image/jpeg:https://www.ajcwheeling.com/wp-content/uploads/2025/02/TAX-PREP-at-Harper.jpg
END:VEVENT
BEGIN:VEVENT
DTSTART;TZID=America/Chicago:20250320T130000
DTEND;TZID=America/Chicago:20250320T143000
DTSTAMP:20260422T132637
CREATED:20250112T205929Z
LAST-MODIFIED:20250112T205929Z
UID:10005909-1742475600-1742481000@www.ajcwheeling.com
SUMMARY:Google Workspace: Explore the spreadsheet power of Sheets! (Virtual Class)
DESCRIPTION:In this 90-minute webinar we’ll explore Sheets – Google’s web-based alternative to Excel. Learn to use this powerful spreadsheet program to create spreadsheets\, work with functions\, add formatting\, and sort/filter data. \nPRE-REGISTRATION IS REQUIRED FOR ATTENDING THIS WORKSHOP! Registration closes 24 hours prior to class. \n \nOnce you register\, you will receive the link to enter class shortly before class. Please watch for an email from North Cook Job Center <customercare@GoToWebinar.com> \nPLEASE NOTE: \n\nYou must register as there is limited space for this virtual workshop.\n\n\nLog in 10 minutes prior to workshop. ABSOLUTELY NO ADMITTANCE after session starts. Be sure to allow enough time to log in.\n\n\nWorkshops are for individuals age 18+.\n\n\nIf you need to cancel\, please let us know a minimum of 48 hours prior to class so someone else on the waiting list can use your seat.\nPlease DO NOT REGISTER MORE THAN ONCE.\n\nThis American Job Center is committed to providing all customers with quality\, professional services as well as a safe and comfortable learning environment. The use of our resources implies acceptance of our Customer Code of Conduct\, which is based on the principle of respect for all customers and staff. READ: https://www.ajcwheeling.com/wp-content/uploads/2020/08/Customer-Code-of-Conduct-handout.pdf \nQUESTIONS? EMAIL contact@bcsillinois.org
URL:https://www.ajcwheeling.com/event/google-workspace-explore-the-spreadsheet-power-of-sheets-virtual-class-5/
CATEGORIES:Computer workshop
ATTACH;FMTTYPE=image/jpeg:https://www.ajcwheeling.com/wp-content/uploads/2024/06/a3ae8cf088dac1df2988e8325b5cde3d.jpg
ORGANIZER;CN="Business%20and%20Career%20Services%20Inc.":MAILTO:contact@bcsillinois.org
END:VEVENT
END:VCALENDAR