BEGIN:VCALENDAR
VERSION:2.0
PRODID:-//American Job Center in Wheeling - ECPv6.0.13.1//NONSGML v1.0//EN
CALSCALE:GREGORIAN
METHOD:PUBLISH
X-WR-CALNAME:American Job Center in Wheeling
X-ORIGINAL-URL:https://www.ajcwheeling.com
X-WR-CALDESC:Events for American Job Center in Wheeling
REFRESH-INTERVAL;VALUE=DURATION:PT1H
X-Robots-Tag:noindex
X-PUBLISHED-TTL:PT1H
BEGIN:VTIMEZONE
TZID:America/Chicago
BEGIN:DAYLIGHT
TZOFFSETFROM:-0600
TZOFFSETTO:-0500
TZNAME:CDT
DTSTART:20250309T080000
END:DAYLIGHT
BEGIN:STANDARD
TZOFFSETFROM:-0500
TZOFFSETTO:-0600
TZNAME:CST
DTSTART:20251102T070000
END:STANDARD
END:VTIMEZONE
BEGIN:VEVENT
DTSTART;TZID=America/Chicago:20250326T093000
DTEND;TZID=America/Chicago:20250326T110000
DTSTAMP:20260422T133057
CREATED:20250112T205239Z
LAST-MODIFIED:20250112T205350Z
UID:10005906-1742981400-1742986800@www.ajcwheeling.com
SUMMARY:Excel Pivot Tables Level II (Virtual Class)
DESCRIPTION:In this 90-minute webinar we’ll dive deeper into Pivot Tables exploring Pivot Charts\, Slicers\, Timelines\, Calculated Fields and Custom Grouping. Familiarity with basic pivot tables recommended. \nPRE-REGISTRATION IS REQUIRED FOR ATTENDING THIS WORKSHOP! \n \nRegistration closes 24 hours prior to class. \nOnce you register\, you will receive the link to enter class shortly before class. Please watch for an email from North Cook Job Center <customercare@GoToWebinar.com>\n  \nPLEASE NOTE: \n\nYou must register as there is limited space for this virtual workshop.\n\n\nLog in 10 minutes prior to workshop. ABSOLUTELY NO ADMITTANCE after session starts. Be sure to allow enough time to log in.\n\n\nWorkshops are for individuals age 18+.\n\n\nIf you need to cancel\, please let us know a minimum of 48 hours prior to class so someone else on the waiting list can use your seat.\nPlease DO NOT REGISTER MORE THAN ONCE.\n\nThis American Job Center is committed to providing all customers with quality\, professional services as well as a safe and comfortable learning environment. The use of our resources implies acceptance of our Customer Code of Conduct\, which is based on the principle of respect for all customers and staff. READ: https://www.ajcwheeling.com/wp-content/uploads/2020/08/Customer-Code-of-Conduct-handout.pdf \nQUESTIONS? EMAIL contact@bcsillinois.org
URL:https://www.ajcwheeling.com/event/excel-pivot-tables-level-ii-virtual-class-7/
CATEGORIES:Computer workshop
ATTACH;FMTTYPE=image/jpeg:https://www.ajcwheeling.com/wp-content/uploads/2024/08/MS-Excel-Advanced.jpg
ORGANIZER;CN="Business%20and%20Career%20Services%20Inc.":MAILTO:contact@bcsillinois.org
END:VEVENT
BEGIN:VEVENT
DTSTART;TZID=America/Chicago:20250326T110000
DTEND;TZID=America/Chicago:20250326T140000
DTSTAMP:20260422T133057
CREATED:20250218T215332Z
LAST-MODIFIED:20250218T215332Z
UID:10005980-1742986800-1742997600@www.ajcwheeling.com
SUMMARY:Hanover Township 14th ANNUAL JOB FAIR
DESCRIPTION:2025-Job-Fair Flyer-Employers
URL:https://www.ajcwheeling.com/event/hanover-township-14th-annual-job-fair/
LOCATION:Hanover Township Center\, 240 S. IL Route 59\, Bartlett\, IL\, 60103\, United States
CATEGORIES:Job Fair
ATTACH;FMTTYPE=image/jpeg:https://www.ajcwheeling.com/wp-content/uploads/2025/02/2025.03.26-Hanover-Township-Job-Fair.jpg
END:VEVENT
BEGIN:VEVENT
DTSTART;TZID=America/Chicago:20250326T130000
DTEND;TZID=America/Chicago:20250326T143000
DTSTAMP:20260422T133057
CREATED:20250112T210109Z
LAST-MODIFIED:20250112T210109Z
UID:10005910-1742994000-1742999400@www.ajcwheeling.com
SUMMARY:Canva Basics - Create content for print\, presentations and social media (Virtual Class)
DESCRIPTION:Canva Basics – Create content for print\, presentations and social media  with this free online graphic design app\nYou don’t need to be a graphic designer to produce professional looking designs! By utilizing Canva’s built-in templates\, photo and font options anyone can create exciting content to be shared online\, posted on social media site\, or even professionally printed on paper\, tee-shirts or mugs. \nPRE-REGISTRATION IS REQUIRED FOR ATTENDING THIS WORKSHOP! Registration closes 24 hours prior to class. \n \nOnce you register\, you will receive the link to enter class shortly before class. Please watch for an email from North Cook Job Center <customercare@GoToWebinar.com>\n  \nPLEASE NOTE: \n\nYou must register as there is limited space for this virtual workshop.\n\n\nLog in 10 minutes prior to workshop. ABSOLUTELY NO ADMITTANCE after session starts. Be sure to allow enough time to log in.\n\n\nWorkshops are for individuals age 18+.\n\n\nIf you need to cancel\, please let us know a minimum of 48 hours prior to class so someone else on the waiting list can use your seat.\nPlease DO NOT REGISTER MORE THAN ONCE.\n\nThis American Job Center is committed to providing all customers with quality\, professional services as well as a safe and comfortable learning environment. The use of our resources implies acceptance of our Customer Code of Conduct\, which is based on the principle of respect for all customers and staff. READ: https://www.ajcwheeling.com/wp-content/uploads/2020/08/Customer-Code-of-Conduct-handout.pdf \nQUESTIONS? EMAIL contact@bcsillinois.org
URL:https://www.ajcwheeling.com/event/canva-basics-create-content-for-print-presentations-and-social-media-virtual-class-4/
CATEGORIES:Computer workshop
ATTACH;FMTTYPE=image/png:https://www.ajcwheeling.com/wp-content/uploads/2024/08/Canva_icon_2021.svg_.png
ORGANIZER;CN="Business%20and%20Career%20Services%20Inc.":MAILTO:contact@bcsillinois.org
END:VEVENT
BEGIN:VEVENT
DTSTART;TZID=America/Chicago:20250326T160000
DTEND;TZID=America/Chicago:20250326T190000
DTSTAMP:20260422T133057
CREATED:20250326T145920Z
LAST-MODIFIED:20250326T145920Z
UID:10006037-1743004800-1743015600@www.ajcwheeling.com
SUMMARY:IBEW Empowering Women in Electrical Construction
DESCRIPTION:
URL:https://www.ajcwheeling.com/event/ibew-empowering-women-in-electrical-construction/
LOCATION:IBEW 701 Local Union Hall\, 28600 Bella Vista Parkway\, Warrenville\, 60555\, United States
CATEGORIES:Construction
ATTACH;FMTTYPE=image/jpeg:https://www.ajcwheeling.com/wp-content/uploads/2025/03/2025.03.26-IBEW-EVENT-IMG_1647.jpg
END:VEVENT
END:VCALENDAR