BEGIN:VCALENDAR
VERSION:2.0
PRODID:-//American Job Center in Wheeling - ECPv6.0.13.1//NONSGML v1.0//EN
CALSCALE:GREGORIAN
METHOD:PUBLISH
X-WR-CALNAME:American Job Center in Wheeling
X-ORIGINAL-URL:https://www.ajcwheeling.com
X-WR-CALDESC:Events for American Job Center in Wheeling
REFRESH-INTERVAL;VALUE=DURATION:PT1H
X-Robots-Tag:noindex
X-PUBLISHED-TTL:PT1H
BEGIN:VTIMEZONE
TZID:America/Chicago
BEGIN:DAYLIGHT
TZOFFSETFROM:-0600
TZOFFSETTO:-0500
TZNAME:CDT
DTSTART:20250309T080000
END:DAYLIGHT
BEGIN:STANDARD
TZOFFSETFROM:-0500
TZOFFSETTO:-0600
TZNAME:CST
DTSTART:20251102T070000
END:STANDARD
END:VTIMEZONE
BEGIN:VEVENT
DTSTART;TZID=America/Chicago:20250430T093000
DTEND;TZID=America/Chicago:20250430T110000
DTSTAMP:20260422T121317
CREATED:20250214T161040Z
LAST-MODIFIED:20250214T161040Z
UID:10005955-1746005400-1746010800@www.ajcwheeling.com
SUMMARY:Excel Advanced Concepts: Additional Data Analysis tools (Virtual Class)
DESCRIPTION:Excel Advanced Concepts: Additional Data Analysis tools – Data validation\, Subtotal and What-Ifs\nThis 90-minute webinar focuses on some additional data tools available in Excel that are very useful but often overlooked. We’ll talk about data validation\, the Subtotal feature (an alternative to pivot tables)\, and the What-If tools. \nPRE-REGISTRATION IS REQUIRED FOR ATTENDING THIS WORKSHOP! Registration closes 24 hours prior to class. \n \nOnce you register\, you will receive the link to enter class shortly before class. Please watch for an email from North Cook Job Center <customercare@GoToWebinar.com>\n  \nPLEASE NOTE: \n\nYou must register as there is limited space for this virtual workshop.\n\n\nLog in 10 minutes prior to workshop. ABSOLUTELY NO ADMITTANCE after session starts. Be sure to allow enough time to log in.\n\n\nWorkshops are for individuals age 18+.\n\n\nIf you need to cancel\, please let us know a minimum of 48 hours prior to class so someone else on the waiting list can use your seat.\nPlease DO NOT REGISTER MORE THAN ONCE.\n\nThis American Job Center is committed to providing all customers with quality\, professional services as well as a safe and comfortable learning environment. The use of our resources implies acceptance of our Customer Code of Conduct\, which is based on the principle of respect for all customers and staff. READ: https://www.ajcwheeling.com/wp-content/uploads/2020/08/Customer-Code-of-Conduct-handout.pdf \nQUESTIONS? EMAIL contact@bcsillinois.org
URL:https://www.ajcwheeling.com/event/excel-advanced-concepts-additional-data-analysis-tools-virtual-class-14/
CATEGORIES:Computer workshop
ATTACH;FMTTYPE=image/jpeg:https://www.ajcwheeling.com/wp-content/uploads/2024/08/MS-Excel-Advanced.jpg
ORGANIZER;CN="Business%20and%20Career%20Services%20Inc.":MAILTO:contact@bcsillinois.org
END:VEVENT
BEGIN:VEVENT
DTSTART;TZID=America/Chicago:20250430T100000
DTEND;TZID=America/Chicago:20250430T110000
DTSTAMP:20260422T121318
CREATED:20250325T134008Z
LAST-MODIFIED:20250325T134008Z
UID:10006032-1746007200-1746010800@www.ajcwheeling.com
SUMMARY:Job Search Strategy 101  (Virtual workshop)
DESCRIPTION:Location: This is a virtual workshop. You will receive an email with the link to enter class shortly before class. Please watch for an email from the Peer Counselors at BCSIllinois.org. \nLearn from someone who understands the job search journey and the challenges you are facing. During this in-person and interactive session\, participants will learn how to organize their job search with guidance through a Peer Counselor. \nThis sessions will include: \n\nAn introduction to job search tools and platforms\, job boards or company websites\nTips on how to organize your job search\, track applications\, set goals and manage time to stay motivated and efficient\nInstructions on how to refine your job search approach\n\n\n\n\n \nWorkshop Location: This is a virtual workshop. You will receive an email with the link to enter class shortly before class. Please watch for an email from the Peer Counselors at BCSIllinois.org. \n  \nIMPORTANT: For additional job fairs\, free workshops and free computer classes\, visit northcookjobcenter.com/events/ \nBCS is committed to providing all customers with quality\, professional services as well as a safe and comfortable learning environment. The use of our resources (in person or virtual) implies acceptance of our Customer Code of Conduct (see attached Code of Conduct)\, which is based on the principle of respect for all customers and staff. https://www.ajcwheeling.com/wp-content/uploads/2020/08/Customer-Code-of-Conduct-handout.pdf \nOur agency is an equal opportunity employer/program. Auxiliary aids and services are available upon request to individuals with disabilities. Funding for this program is made possible through a grant provided by the Chicago Cook Workforce Partnership. This workforce product was funded by a grant awarded by the U.S. Department of Labor’s Employment and Training Administration. For more information please visit ChiCookWorks.org/DOL-Funding \nQuestions? Email: contact@bcsillinois.org
URL:https://www.ajcwheeling.com/event/job-search-strategy-101-virtual-workshop-5/
CATEGORIES:Job Search Workshop
ATTACH;FMTTYPE=image/png:https://www.ajcwheeling.com/wp-content/uploads/2025/02/Are-You-Ready-Green-Graphic.png
ORGANIZER;CN="Business%20and%20Career%20Services%20Inc.":MAILTO:contact@bcsillinois.org
END:VEVENT
BEGIN:VEVENT
DTSTART;TZID=America/Chicago:20250430T100000
DTEND;TZID=America/Chicago:20250430T133000
DTSTAMP:20260422T121318
CREATED:20250408T151746Z
LAST-MODIFIED:20250408T151746Z
UID:10006065-1746007200-1746019800@www.ajcwheeling.com
SUMMARY:IDES JOB FAIR
DESCRIPTION:IDES / Rolling Meadows Library 3110 Martin Lane\, Rolling Meadows IL 60008\nJoin us for a Job Fair at the Rolling Meadows Library where Job Seekers have the opportunity to meet over multiple employer who have immediate employment openings and are ready to hire. Bring copies of your resume and be prepared to interview with some employers on the spot!\nWednesday\, April 30\, 2025 10:00am– 1:30pm\n 
URL:https://www.ajcwheeling.com/event/ides-job-fair-5/
LOCATION:Rolling Meadows Library\, 3110 Martin Lane\, Rolling Meadows\, IL\, 60008\, United States
CATEGORIES:Job Fair
ATTACH;FMTTYPE=image/jpeg:https://www.ajcwheeling.com/wp-content/uploads/2025/04/2025.04.30-IDES-JOB-FAIR-Rolling-Meadows-Library.jpg
END:VEVENT
BEGIN:VEVENT
DTSTART;TZID=America/Chicago:20250430T130000
DTEND;TZID=America/Chicago:20250430T143000
DTSTAMP:20260422T121318
CREATED:20250214T161203Z
LAST-MODIFIED:20250214T161203Z
UID:10005956-1746018000-1746023400@www.ajcwheeling.com
SUMMARY:Google Workspace: Explore the spreadsheet power of Sheets! (Virtual Class)
DESCRIPTION:In this 90-minute webinar we’ll explore Sheets – Google’s web-based alternative to Excel. Learn to use this powerful spreadsheet program to create spreadsheets\, work with functions\, add formatting\, and sort/filter data. \nPRE-REGISTRATION IS REQUIRED FOR ATTENDING THIS WORKSHOP! Registration closes 24 hours prior to class. \n \nOnce you register\, you will receive the link to enter class shortly before class. Please watch for an email from North Cook Job Center <customercare@GoToWebinar.com> \nPLEASE NOTE: \n\nYou must register as there is limited space for this virtual workshop.\n\n\nLog in 10 minutes prior to workshop. ABSOLUTELY NO ADMITTANCE after session starts. Be sure to allow enough time to log in.\n\n\nWorkshops are for individuals age 18+.\n\n\nIf you need to cancel\, please let us know a minimum of 48 hours prior to class so someone else on the waiting list can use your seat.\nPlease DO NOT REGISTER MORE THAN ONCE.\n\nThis American Job Center is committed to providing all customers with quality\, professional services as well as a safe and comfortable learning environment. The use of our resources implies acceptance of our Customer Code of Conduct\, which is based on the principle of respect for all customers and staff. READ: https://www.ajcwheeling.com/wp-content/uploads/2020/08/Customer-Code-of-Conduct-handout.pdf \nQUESTIONS? EMAIL contact@bcsillinois.org
URL:https://www.ajcwheeling.com/event/google-workspace-explore-the-spreadsheet-power-of-sheets-virtual-class-6/
CATEGORIES:Computer workshop
ATTACH;FMTTYPE=image/jpeg:https://www.ajcwheeling.com/wp-content/uploads/2024/06/a3ae8cf088dac1df2988e8325b5cde3d.jpg
ORGANIZER;CN="Business%20and%20Career%20Services%20Inc.":MAILTO:contact@bcsillinois.org
END:VEVENT
BEGIN:VEVENT
DTSTART;TZID=America/Chicago:20250430T140000
DTEND;TZID=America/Chicago:20250430T150000
DTSTAMP:20260422T121318
CREATED:20250325T134128Z
LAST-MODIFIED:20250325T134128Z
UID:10006035-1746021600-1746025200@www.ajcwheeling.com
SUMMARY:Job Search Strategy 101  (In Person)
DESCRIPTION:Location: 1400 S Wolf Road\, Building 200\, Wheeling\, IL 60090 \nLearn from someone who understands the job search journey and the challenges you are facing. During this in-person and interactive session\, participants will learn how to organize their job search with guidance through a Peer Counselor. \nThis sessions will include: \n\nAn introduction to job search tools and platforms\, job boards or company websites\nTips on how to organize your job search\, track applications\, set goals and manage time to stay motivated and efficient\nInstructions on how to refine your job search approach\n\n\n\n\n \nWorkshop Location: 1400 S Wolf Road\, Building 200\, Wheeling\, IL 60090 (American Job Center in Wheeling). ONE block south of Palatine-Willow Road & Wolf Road. WEST side of Wolf Road. Ample free parking in front. \n  \nIMPORTANT: For additional job fairs\, free workshops and free computer classes\, visit northcookjobcenter.com/events/ \nBCS is committed to providing all customers with quality\, professional services as well as a safe and comfortable learning environment. The use of our resources (in person or virtual) implies acceptance of our Customer Code of Conduct (see attached Code of Conduct)\, which is based on the principle of respect for all customers and staff. https://www.ajcwheeling.com/wp-content/uploads/2020/08/Customer-Code-of-Conduct-handout.pdf \nOur agency is an equal opportunity employer/program. Auxiliary aids and services are available upon request to individuals with disabilities. Funding for this program is made possible through a grant provided by the Chicago Cook Workforce Partnership. This workforce product was funded by a grant awarded by the U.S. Department of Labor’s Employment and Training Administration. For more information please visit ChiCookWorks.org/DOL-Funding \nQuestions? Email: contact@bcsillinois.org
URL:https://www.ajcwheeling.com/event/job-search-strategy-101-in-person-9/
LOCATION:American Job Center in Wheeling\, 1400 South Wolf Road\, Building 200\, Suite 200\, Wheeling\, IL\, 60090\, United States
CATEGORIES:Job Search Workshop
ATTACH;FMTTYPE=image/png:https://www.ajcwheeling.com/wp-content/uploads/2025/02/Are-You-Ready-Green-Graphic.png
ORGANIZER;CN="Business%20and%20Career%20Services%20Inc.":MAILTO:contact@bcsillinois.org
END:VEVENT
END:VCALENDAR