BEGIN:VCALENDAR
VERSION:2.0
PRODID:-//American Job Center in Wheeling - ECPv6.0.13.1//NONSGML v1.0//EN
CALSCALE:GREGORIAN
METHOD:PUBLISH
X-ORIGINAL-URL:https://www.ajcwheeling.com
X-WR-CALDESC:Events for American Job Center in Wheeling
REFRESH-INTERVAL;VALUE=DURATION:PT1H
X-Robots-Tag:noindex
X-PUBLISHED-TTL:PT1H
BEGIN:VTIMEZONE
TZID:America/Chicago
BEGIN:DAYLIGHT
TZOFFSETFROM:-0600
TZOFFSETTO:-0500
TZNAME:CDT
DTSTART:20250309T080000
END:DAYLIGHT
BEGIN:STANDARD
TZOFFSETFROM:-0500
TZOFFSETTO:-0600
TZNAME:CST
DTSTART:20251102T070000
END:STANDARD
END:VTIMEZONE
BEGIN:VEVENT
DTSTART;TZID=America/Chicago:20250521T093000
DTEND;TZID=America/Chicago:20250521T110000
DTSTAMP:20260422T105024
CREATED:20250328T032811Z
LAST-MODIFIED:20250328T032811Z
UID:10006049-1747819800-1747825200@www.ajcwheeling.com
SUMMARY:Excel Focus on Functions - Lookup and Reference: explore VLOOKUP\, HLOOKUP and alternatives like INDEX and MATCH (virtual class)
DESCRIPTION:VLOOKUP is a must-have Excel function that’s used to manipulate data. In this 90-minute webinar we’ll explore VLOOKUP and the additional options that make it such a useful tool. We’ll also look at some alternatives to VLOOKUP like INDEX/MATCH. \nPRE-REGISTRATION IS REQUIRED FOR ATTENDING THIS WORKSHOP! Registration closes 24 hours prior to class. \n \nOnce you register\, you will receive the link to enter class shortly before class. Please watch for an email from North Cook Job Center <customercare@GoToWebinar.com>\nPLEASE NOTE: \n\nYou must register as there is limited space for this virtual workshop.\n\n\nLog in 15 minutes prior to workshop. ABSOLUTELY NO ADMITTANCE after session starts. Be sure to allow enough time to log in.\n\n\nWorkshops are for individuals age 18+.\n\n\nIf you need to cancel\, please let us know a minimum of 48 hours prior to class so someone else on the waiting list can use your seat.\nPlease DO NOT REGISTER MORE THAN ONCE.\n\nThis American Job Center is committed to providing all customers with quality\, professional services as well as a safe and comfortable learning environment. The use of our resources implies acceptance of our Customer Code of Conduct\, which is based on the principle of respect for all customers and staff. READ: https://www.ajcwheeling.com/wp-content/uploads/2020/08/Customer-Code-of-Conduct-handout.pdf \nQUESTIONS? EMAIL contact@bcsillinois.org
URL:https://www.ajcwheeling.com/event/excel-focus-on-functions-lookup-and-reference-explore-vlookup-hlookup-and-alternatives-like-index-and-match-virtual-class-6/
CATEGORIES:Computer workshop
ATTACH;FMTTYPE=image/jpeg:https://www.ajcwheeling.com/wp-content/uploads/2024/08/MS-Excel-Advanced.jpg
ORGANIZER;CN="Business%20and%20Career%20Services%20Inc.":MAILTO:contact@bcsillinois.org
END:VEVENT
BEGIN:VEVENT
DTSTART;TZID=America/Chicago:20250521T130000
DTEND;TZID=America/Chicago:20250521T143000
DTSTAMP:20260422T105024
CREATED:20250328T033004Z
LAST-MODIFIED:20250328T033004Z
UID:10006050-1747832400-1747837800@www.ajcwheeling.com
SUMMARY:Excel Pivot Tables Level 1 (Virtual Class)
DESCRIPTION:Learn the basics of Pivot Table construction in Excel. We’ll discuss data organization\, define what a pivot table does\, and create several examples of this need-to-know Excel feature. Familiarity with the Sorting and Filtering tools in Excel is recommended. \nPRE-REGISTRATION IS REQUIRED FOR ATTENDING THIS WORKSHOP!  Registration closes 24 hours prior to class. \n \nOnce you register\, you will receive the link to enter class shortly before class. Please watch for an email from:\n                                North Cook Job Center <customercare@GoToWebinar.com>\n  \nPLEASE NOTE: \n\nYou must register as there is limited space for this virtual workshop.\nLog in 10 minutes prior to workshop. ABSOLUTELY NO ADMITTANCE after session starts. \nWorkshops are for individuals age 18+.\nIf you need to cancel\, please let us know a minimum of 48 hours prior to class so someone else on the waiting list can use your seat. \nPlease DO NOT REGISTER MORE THAN ONCE.\n\nThis American Job Center is committed to providing all customers with quality\, professional services as well as a safe and comfortable learning environment. The use of our resources implies acceptance of our Customer Code of Conduct\, which is based on the principle of respect for all customers and staff. READ: https://www.ajcwheeling.com/wp-content/uploads/2020/08/Customer-Code-of-Conduct-handout.pdf \nQUESTIONS? EMAIL contact@bcsillinois.org
URL:https://www.ajcwheeling.com/event/excel-pivot-tables-level-1-virtual-class-10/
CATEGORIES:Computer workshop
ATTACH;FMTTYPE=image/webp:https://www.ajcwheeling.com/wp-content/uploads/2024/10/EXCEL-pivot-table-18-20240830-4505698.webp
ORGANIZER;CN="Business%20and%20Career%20Services%20Inc.":MAILTO:contact@bcsillinois.org
END:VEVENT
BEGIN:VEVENT
DTSTART;TZID=America/Chicago:20250521T130000
DTEND;TZID=America/Chicago:20250521T150000
DTSTAMP:20260422T105024
CREATED:20250512T190836Z
LAST-MODIFIED:20250512T190851Z
UID:10006096-1747832400-1747839600@www.ajcwheeling.com
SUMMARY:State of IL IT and Tech Careers
DESCRIPTION: 
URL:https://www.ajcwheeling.com/event/state-of-il-it-and-tech-careers/
LOCATION:Chatham Area Public Library\, 600 E. Spruce Street\, Chatham\, IL\, 62629
CATEGORIES:Hiring Event,Job Fair,Resource Fair
ATTACH;FMTTYPE=image/jpeg:https://www.ajcwheeling.com/wp-content/uploads/2025/05/2025.05.21-State-of-IL-IT-and-Tech-Careers.jpg
END:VEVENT
END:VCALENDAR