BEGIN:VCALENDAR
VERSION:2.0
PRODID:-//American Job Center in Wheeling - ECPv6.0.13.1//NONSGML v1.0//EN
CALSCALE:GREGORIAN
METHOD:PUBLISH
X-ORIGINAL-URL:https://www.ajcwheeling.com
X-WR-CALDESC:Events for American Job Center in Wheeling
REFRESH-INTERVAL;VALUE=DURATION:PT1H
X-Robots-Tag:noindex
X-PUBLISHED-TTL:PT1H
BEGIN:VTIMEZONE
TZID:America/Chicago
BEGIN:DAYLIGHT
TZOFFSETFROM:-0600
TZOFFSETTO:-0500
TZNAME:CDT
DTSTART:20250309T080000
END:DAYLIGHT
BEGIN:STANDARD
TZOFFSETFROM:-0500
TZOFFSETTO:-0600
TZNAME:CST
DTSTART:20251102T070000
END:STANDARD
END:VTIMEZONE
BEGIN:VEVENT
DTSTART;TZID=America/Chicago:20250612T093000
DTEND;TZID=America/Chicago:20250612T120000
DTSTAMP:20260422T080711
CREATED:20250409T154546Z
LAST-MODIFIED:20250409T154546Z
UID:10006075-1749720600-1749729600@www.ajcwheeling.com
SUMMARY:Excel Pivot Tables (New! In-Person)
DESCRIPTION:Learn the basics of Pivot Table construction in Excel. We’ll discuss data organization\, define what a pivot table does\, and create several examples of this need-to-know Excel feature. Familiarity with the Sorting and Filtering tools in Excel is recommended. \nPRE-REGISTRATION IS REQUIRED FOR ATTENDING THIS WORKSHOP! \nRegistration closes 24 hours prior to class. \n \nWorkshop Location: \nAmerican Job Center in Wheeling \n1400 S Wolf Road\, Building 200\, Suite 200\, Wheeling\, IL 60090 \n(One block south of Palatine/Willow Road & Wolf Road – west side of Wolf Rd. Ample free parking in front.) \nPLEASE NOTE: \n\nYou must register as there is only space for 15 people per workshop.\nCheck in 15 minutes prior to workshop. ABSOLUTELY NO ADMITTANCE after session starts. Be sure to allow enough time for traffic\, construction & weather.\nWorkshops are for individuals age 18+.\nEach person has their own computer for learning.\nIf you need to cancel\, please let us know a minimum of 48 hours prior to class so someone else can use your seat. We will have an extensive waiting list – so if you cannot come – PLEASE CANCEL.\nPlease do NOT REGISTER MULTIPLE TIMES.\n\nThe American Job Center in Wheeling is committed to providing all customers with quality\, professional services as well as a safe and comfortable learning environment. The use of our resources implies acceptance of our Customer Code of Conduct\, which is based on the principle of respect for all customers and staff. READ: https://www.ajcwheeling.com/wp-content/uploads/2020/08/Customer-Code-of-Conduct-handout.pdf \nQUESTIONS? Email contact@bcsillinois.org \nsubject to change without notice.
URL:https://www.ajcwheeling.com/event/excel-pivot-tables-new-in-person-2/
LOCATION:American Job Center in Wheeling\, 1400 South Wolf Road\, Building 200\, Suite 200\, Wheeling\, IL\, 60090\, United States
CATEGORIES:Computer workshop
ATTACH;FMTTYPE=image/jpeg:https://www.ajcwheeling.com/wp-content/uploads/2024/08/MS-Excel-Advanced.jpg
ORGANIZER;CN="Business%20and%20Career%20Services%20Inc.":MAILTO:contact@bcsillinois.org
END:VEVENT
BEGIN:VEVENT
DTSTART;TZID=America/Chicago:20250612T130000
DTEND;TZID=America/Chicago:20250612T153000
DTSTAMP:20260422T080711
CREATED:20250409T155022Z
LAST-MODIFIED:20250409T155308Z
UID:10006076-1749733200-1749742200@www.ajcwheeling.com
SUMMARY:Word Basics - (In Person workshop)
DESCRIPTION:WORD Basics: Document creation\, font\, paragraph and page formatting including bulleted lists\, alignment\, indentation\, and line spacing. \nThis in-person class is taught in 1 sessions (See Below) \nFROM 1:00pm to 3:30pm Chicago time \nMicrosoft WORD Basics: Document creation\, font\, paragraph and page formatting including bulleted lists\, alignment\, indentation\, and line spacing. \nPRE-REGISTRATION IS REQUIRED FOR ATTENDING THIS WORKSHOP! Registration closes 24 hours prior to class. \n\n\n\n \nClass Location – North Suburban Cook County American Job Center – 1400 S Wolf Road\, Building 200\, Suite 200\, Wheeling\, IL 60090 \nPLEASE NOTE:  \n\nYou must register as there is only space for 15 people per workshop\nCheck in 10 minutes prior to workshop. No admittance after session starts. Be sure to allow enough time for traffic\, construction & weather\nWorkshops are for individuals age 18+\nEach person has their own computer for learning\nIf you need to cancel\, please let us know so someone else can use your seat. \n\nThe North Suburban Cook County American Job Center is committed to providing all customers with quality\, professional services as well as a safe and comfortable learning environment. The use of our resources implies acceptance of our Customer Code of Conduct\, which is based on the principle of respect for all customers and staff. READ: \nhttps://www.ajcwheeling.com/wp-content/uploads/2020/08/Customer-Code-of-Conduct-handout.pdf \nQUESTIONS? EMAIL:  contact@bcsillinois.org
URL:https://www.ajcwheeling.com/event/word-beyond-the-basics-in-person-6/
LOCATION:American Job Center in Wheeling\, 1400 South Wolf Road\, Building 200\, Suite 200\, Wheeling\, IL\, 60090\, United States
CATEGORIES:Computer workshop
ATTACH;FMTTYPE=image/jpeg:https://www.ajcwheeling.com/wp-content/uploads/2023/07/da3e21e26da3ae4933985f964ef1e887.jpg
END:VEVENT
END:VCALENDAR