BEGIN:VCALENDAR
VERSION:2.0
PRODID:-//American Job Center in Wheeling - ECPv6.0.13.1//NONSGML v1.0//EN
CALSCALE:GREGORIAN
METHOD:PUBLISH
X-WR-CALNAME:American Job Center in Wheeling
X-ORIGINAL-URL:https://www.ajcwheeling.com
X-WR-CALDESC:Events for American Job Center in Wheeling
REFRESH-INTERVAL;VALUE=DURATION:PT1H
X-Robots-Tag:noindex
X-PUBLISHED-TTL:PT1H
BEGIN:VTIMEZONE
TZID:America/Chicago
BEGIN:DAYLIGHT
TZOFFSETFROM:-0600
TZOFFSETTO:-0500
TZNAME:CDT
DTSTART:20250309T080000
END:DAYLIGHT
BEGIN:STANDARD
TZOFFSETFROM:-0500
TZOFFSETTO:-0600
TZNAME:CST
DTSTART:20251102T070000
END:STANDARD
END:VTIMEZONE
BEGIN:VEVENT
DTSTART;TZID=America/Chicago:20250625T093000
DTEND;TZID=America/Chicago:20250625T110000
DTSTAMP:20260422T080718
CREATED:20250422T012256Z
LAST-MODIFIED:20250422T012256Z
UID:10006084-1750843800-1750849200@www.ajcwheeling.com
SUMMARY:Excel Pivot Tables Level 1 (Virtual Class)
DESCRIPTION:Learn the basics of Pivot Table construction in Excel. We’ll discuss data organization\, define what a pivot table does\, and create several examples of this need-to-know Excel feature. Familiarity with the Sorting and Filtering tools in Excel is recommended. \nPRE-REGISTRATION IS REQUIRED FOR ATTENDING THIS WORKSHOP!  Registration closes 24 hours prior to class. \n \nOnce you register\, you will receive the link to enter class shortly before class. Please watch for an email from:\n                                North Cook Job Center <customercare@GoToWebinar.com>\n  \nPLEASE NOTE: \n\nYou must register as there is limited space for this virtual workshop.\nLog in 10 minutes prior to workshop. ABSOLUTELY NO ADMITTANCE after session starts. \nWorkshops are for individuals age 18+.\nIf you need to cancel\, please let us know a minimum of 48 hours prior to class so someone else on the waiting list can use your seat. \nPlease DO NOT REGISTER MORE THAN ONCE.\n\nThis American Job Center is committed to providing all customers with quality\, professional services as well as a safe and comfortable learning environment. The use of our resources implies acceptance of our Customer Code of Conduct\, which is based on the principle of respect for all customers and staff. READ: https://www.ajcwheeling.com/wp-content/uploads/2020/08/Customer-Code-of-Conduct-handout.pdf \nQUESTIONS? EMAIL contact@bcsillinois.org
URL:https://www.ajcwheeling.com/event/excel-pivot-tables-level-1-virtual-class-11/
CATEGORIES:Computer workshop
ATTACH;FMTTYPE=image/webp:https://www.ajcwheeling.com/wp-content/uploads/2024/10/EXCEL-pivot-table-18-20240830-4505698.webp
ORGANIZER;CN="Business%20and%20Career%20Services%20Inc.":MAILTO:contact@bcsillinois.org
END:VEVENT
BEGIN:VEVENT
DTSTART;TZID=America/Chicago:20250625T100000
DTEND;TZID=America/Chicago:20250625T110000
DTSTAMP:20260422T080718
CREATED:20250521T182212Z
LAST-MODIFIED:20250521T182212Z
UID:10006130-1750845600-1750849200@www.ajcwheeling.com
SUMMARY:Job Search Strategy 101  (Virtual workshop)
DESCRIPTION:Location: This is a virtual workshop. You will receive an email with the link to enter class shortly before class. Please watch for an email from the Peer Counselors at BCSIllinois.org. \nLearn from someone who understands the job search journey and the challenges you are facing. During this in-person and interactive session\, participants will learn how to organize their job search with guidance through a Peer Counselor. \nThis sessions will include: \n\nAn introduction to job search tools and platforms\, job boards or company websites\nTips on how to organize your job search\, track applications\, set goals and manage time to stay motivated and efficient\nInstructions on how to refine your job search approach\n\n\n\n\n \nWorkshop Location: This is a virtual workshop. You will receive an email with the link to enter class shortly before class. Please watch for an email from the Peer Counselors at BCSIllinois.org. \n  \nIMPORTANT: For additional job fairs\, free workshops and free computer classes\, visit northcookjobcenter.com/events/ \nBCS is committed to providing all customers with quality\, professional services as well as a safe and comfortable learning environment. The use of our resources (in person or virtual) implies acceptance of our Customer Code of Conduct (see attached Code of Conduct)\, which is based on the principle of respect for all customers and staff. https://www.ajcwheeling.com/wp-content/uploads/2020/08/Customer-Code-of-Conduct-handout.pdf \nOur agency is an equal opportunity employer/program. Auxiliary aids and services are available upon request to individuals with disabilities. Funding for this program is made possible through a grant provided by the Chicago Cook Workforce Partnership. This workforce product was funded by a grant awarded by the U.S. Department of Labor’s Employment and Training Administration. For more information please visit ChiCookWorks.org/DOL-Funding \nQuestions? Email: contact@bcsillinois.org
URL:https://www.ajcwheeling.com/event/job-search-strategy-101-virtual-workshop-9/
CATEGORIES:Job Search Workshop
ATTACH;FMTTYPE=image/png:https://www.ajcwheeling.com/wp-content/uploads/2025/02/Are-You-Ready-Green-Graphic.png
ORGANIZER;CN="Business%20and%20Career%20Services%20Inc.":MAILTO:contact@bcsillinois.org
END:VEVENT
BEGIN:VEVENT
DTSTART;TZID=America/Chicago:20250625T130000
DTEND;TZID=America/Chicago:20250625T143000
DTSTAMP:20260422T080718
CREATED:20250422T012716Z
LAST-MODIFIED:20250422T012716Z
UID:10006085-1750856400-1750861800@www.ajcwheeling.com
SUMMARY:Excel Advanced Concepts - Get Started with Excel Tables (Virtual Class)
DESCRIPTION:You’ve heard of Excel tables but never had a chance to use them? Learn how to structure Excel tables\, understand the differences between normal ranges and tables\, and the advantages of using tables to create more complex pivot tables and use the Power Query Feature. \nPRE-REGISTRATION IS REQUIRED FOR ATTENDING THIS WORKSHOP! \n \nRegistration closes 24 hours prior to class. \nOnce you register\, you will receive the link to enter class shortly before class. Please watch for an email from North Cook Job Center <customercare@GoToWebinar.com>\n  \nPLEASE NOTE: \n\nYou must register as there is limited space for this virtual workshop.\n\n\nLog in 15 minutes prior to workshop. ABSOLUTELY NO ADMITTANCE after session starts. Be sure to allow enough time to log in.\n\n\nWorkshops are for individuals age 18+.\n\n\nIf you need to cancel\, please let us know a minimum of 48 hours prior to class so someone else on the waiting list can use your seat.\nPlease DO NOT REGISTER MORE THAN ONCE.\n\nThis American Job Center is committed to providing all customers with quality\, professional services as well as a safe and comfortable learning environment. The use of our resources implies acceptance of our Customer Code of Conduct\, which is based on the principle of respect for all customers and staff. READ: https://www.ajcwheeling.com/wp-content/uploads/2020/08/Customer-Code-of-Conduct-handout.pdf \nQUESTIONS? EMAIL contact@bcsillinois.org
URL:https://www.ajcwheeling.com/event/excel-advanced-concepts-get-started-with-excel-tables-virtual-class-10/
CATEGORIES:Computer workshop
ATTACH;FMTTYPE=image/jpeg:https://www.ajcwheeling.com/wp-content/uploads/2024/08/MS-Excel-Advanced.jpg
ORGANIZER;CN="Business%20and%20Career%20Services%20Inc.":MAILTO:contact@bcsillinois.org
END:VEVENT
BEGIN:VEVENT
DTSTART;TZID=America/Chicago:20250625T140000
DTEND;TZID=America/Chicago:20250625T150000
DTSTAMP:20260422T080718
CREATED:20250521T173717Z
LAST-MODIFIED:20250521T173717Z
UID:10006125-1750860000-1750863600@www.ajcwheeling.com
SUMMARY:Job Search Strategy 101  (In Person)
DESCRIPTION:Location: 1400 S Wolf Road\, Building 200\, Wheeling\, IL 60090 \nLearn from someone who understands the job search journey and the challenges you are facing. During this in-person and interactive session\, participants will learn how to organize their job search with guidance through a Peer Counselor. \nThis sessions will include: \n\nAn introduction to job search tools and platforms\, job boards or company websites\nTips on how to organize your job search\, track applications\, set goals and manage time to stay motivated and efficient\nInstructions on how to refine your job search approach\n\n\n\n\n \nWorkshop Location: 1400 S Wolf Road\, Building 200\, Wheeling\, IL 60090 (American Job Center in Wheeling). ONE block south of Palatine-Willow Road & Wolf Road. WEST side of Wolf Road. Ample free parking in front. \n  \nIMPORTANT: For additional job fairs\, free workshops and free computer classes\, visit northcookjobcenter.com/events/ \nBCS is committed to providing all customers with quality\, professional services as well as a safe and comfortable learning environment. The use of our resources (in person or virtual) implies acceptance of our Customer Code of Conduct (see attached Code of Conduct)\, which is based on the principle of respect for all customers and staff. https://www.ajcwheeling.com/wp-content/uploads/2020/08/Customer-Code-of-Conduct-handout.pdf \nOur agency is an equal opportunity employer/program. Auxiliary aids and services are available upon request to individuals with disabilities. Funding for this program is made possible through a grant provided by the Chicago Cook Workforce Partnership. This workforce product was funded by a grant awarded by the U.S. Department of Labor’s Employment and Training Administration. For more information please visit ChiCookWorks.org/DOL-Funding \nQuestions? Email: contact@bcsillinois.org
URL:https://www.ajcwheeling.com/event/job-search-strategy-101-in-person-11/
LOCATION:American Job Center in Wheeling\, 1400 South Wolf Road\, Building 200\, Suite 200\, Wheeling\, IL\, 60090\, United States
CATEGORIES:Job Search Workshop
ATTACH;FMTTYPE=image/png:https://www.ajcwheeling.com/wp-content/uploads/2025/02/Are-You-Ready-Green-Graphic.png
ORGANIZER;CN="Business%20and%20Career%20Services%20Inc.":MAILTO:contact@bcsillinois.org
END:VEVENT
END:VCALENDAR