BEGIN:VCALENDAR
VERSION:2.0
PRODID:-//American Job Center in Wheeling - ECPv6.0.13.1//NONSGML v1.0//EN
CALSCALE:GREGORIAN
METHOD:PUBLISH
X-ORIGINAL-URL:https://www.ajcwheeling.com
X-WR-CALDESC:Events for American Job Center in Wheeling
REFRESH-INTERVAL;VALUE=DURATION:PT1H
X-Robots-Tag:noindex
X-PUBLISHED-TTL:PT1H
BEGIN:VTIMEZONE
TZID:America/Chicago
BEGIN:DAYLIGHT
TZOFFSETFROM:-0600
TZOFFSETTO:-0500
TZNAME:CDT
DTSTART:20250309T080000
END:DAYLIGHT
BEGIN:STANDARD
TZOFFSETFROM:-0500
TZOFFSETTO:-0600
TZNAME:CST
DTSTART:20251102T070000
END:STANDARD
END:VTIMEZONE
BEGIN:VEVENT
DTSTART;TZID=America/Chicago:20250814T093000
DTEND;TZID=America/Chicago:20250814T110000
DTSTAMP:20260422T041036
CREATED:20250605T171821Z
LAST-MODIFIED:20250605T171821Z
UID:10006161-1755163800-1755169200@www.ajcwheeling.com
SUMMARY:PowerPoint Basics (Virtual Workshop)
DESCRIPTION:Create a slide presentation using themes\, graphics\, and transitions:\nIn this 90-minute webinar you’ll learn how to create PowerPoint slides and explore how to take advantage of PowerPoint’s many built-in template and style features to help streamline your PowerPoint process! \nPRE-REGISTRATION IS REQUIRED FOR ATTENDING THIS WORKSHOP!  Registration closes 24 hours prior to class. \n \nOnce you register\, you will receive the link to enter class shortly before class. Please watch for an email from  North Cook Job Center <customercare@GoToWebinar.com>\nPLEASE NOTE: \n\nYou must register as there is limited space for this virtual workshop.\n\n\nCheck in 10 minutes prior to workshop. ABSOLUTELY NO ADMITTANCE after session starts. \n\n\nWorkshops are for individuals age 18+.\n\n\nIf you need to cancel\, please let us know a minimum of 48 hours prior to class so someone else on the waiting list can use your seat.\nPlease DO NOT REGISTER MORE THAN ONCE.\n\nThis American Job Center is committed to providing all customers with quality\, professional services as well as a safe and comfortable learning environment. The use of our resources implies acceptance of our Customer Code of Conduct\, which is based on the principle of respect for all customers and staff. READ: https://www.ajcwheeling.com/wp-content/uploads/2020/08/Customer-Code-of-Conduct-handout.pdf \nQUESTIONS? EMAIL contact@bcsillinois.org
URL:https://www.ajcwheeling.com/event/powerpoint-basics-virtual-workshop-9/
CATEGORIES:Computer workshop,Job Search Workshop
ATTACH;FMTTYPE=image/jpeg:https://www.ajcwheeling.com/wp-content/uploads/2024/08/POWERPOINT-LOGO.jpg
ORGANIZER;CN="Business%20and%20Career%20Services%20Inc.":MAILTO:contact@bcsillinois.org
END:VEVENT
BEGIN:VEVENT
DTSTART;TZID=America/Chicago:20250814T130000
DTEND;TZID=America/Chicago:20250814T143000
DTSTAMP:20260422T041036
CREATED:20250605T171902Z
LAST-MODIFIED:20250605T171902Z
UID:10006162-1755176400-1755181800@www.ajcwheeling.com
SUMMARY:Google Workspace: Explore the spreadsheet power of Sheets! (Virtual Class)
DESCRIPTION:In this 90-minute webinar we’ll explore Sheets – Google’s web-based alternative to Excel. Learn to use this powerful spreadsheet program to create spreadsheets\, work with functions\, add formatting\, and sort/filter data. \nPRE-REGISTRATION IS REQUIRED FOR ATTENDING THIS WORKSHOP! Registration closes 24 hours prior to class. \n \nOnce you register\, you will receive the link to enter class shortly before class. Please watch for an email from North Cook Job Center <customercare@GoToWebinar.com> \nPLEASE NOTE: \n\nYou must register as there is limited space for this virtual workshop.\n\n\nLog in 10 minutes prior to workshop. ABSOLUTELY NO ADMITTANCE after session starts. Be sure to allow enough time to log in.\n\n\nWorkshops are for individuals age 18+.\n\n\nIf you need to cancel\, please let us know a minimum of 48 hours prior to class so someone else on the waiting list can use your seat.\nPlease DO NOT REGISTER MORE THAN ONCE.\n\nThis American Job Center is committed to providing all customers with quality\, professional services as well as a safe and comfortable learning environment. The use of our resources implies acceptance of our Customer Code of Conduct\, which is based on the principle of respect for all customers and staff. READ: https://www.ajcwheeling.com/wp-content/uploads/2020/08/Customer-Code-of-Conduct-handout.pdf \nQUESTIONS? EMAIL contact@bcsillinois.org
URL:https://www.ajcwheeling.com/event/google-workspace-explore-the-spreadsheet-power-of-sheets-virtual-class-9/
CATEGORIES:Computer workshop,Job Search Workshop
ATTACH;FMTTYPE=image/jpeg:https://www.ajcwheeling.com/wp-content/uploads/2024/06/a3ae8cf088dac1df2988e8325b5cde3d.jpg
ORGANIZER;CN="Business%20and%20Career%20Services%20Inc.":MAILTO:contact@bcsillinois.org
END:VEVENT
BEGIN:VEVENT
DTSTART;TZID=America/Chicago:20250814T150000
DTEND;TZID=America/Chicago:20250814T190000
DTSTAMP:20260422T041036
CREATED:20250814T175023Z
LAST-MODIFIED:20250814T175023Z
UID:10006269-1755183600-1755198000@www.ajcwheeling.com
SUMMARY:Bright Horizons Hiring Event
DESCRIPTION:  \nJoin our in-person event to learn about career opportunities\, tour our center\, and meet the team at Bright Horizons at Evanston.\nWe offer extensive benefits including \n\n401(k)\, health insurance\nPTO\nOpportunity to earn your ECE Degree for FREE through our Horizons CDA & Degree Program.\n\n  \nBright Horizons at Evanston\n1629 Orrington Ave.\, Suite C.\, Evanston IL 60201\nDate: Thursday\, August 14th\nTime: 3:00pm – 7:00pm
URL:https://www.ajcwheeling.com/event/bright-horizons-hiring-event/
LOCATION:Bright Horizons Evanston\, 1629 Orrington Ave.\, Suite C.\,\, Evanston\, 60201\, United States
CATEGORIES:Hiring Event,Job Fair
ATTACH;FMTTYPE=image/jpeg:https://www.ajcwheeling.com/wp-content/uploads/2025/08/2025.08.14-Bright-Horizons-Evanston-Hiring-Event-Aug-14-JPEG.jpg
ORGANIZER;CN="Bright%20Horizons":MAILTO:dana.cawthorne@brighthorizons.com
END:VEVENT
END:VCALENDAR