BEGIN:VCALENDAR
VERSION:2.0
PRODID:-//American Job Center in Wheeling - ECPv6.0.13.1//NONSGML v1.0//EN
CALSCALE:GREGORIAN
METHOD:PUBLISH
X-WR-CALNAME:American Job Center in Wheeling
X-ORIGINAL-URL:https://www.ajcwheeling.com
X-WR-CALDESC:Events for American Job Center in Wheeling
REFRESH-INTERVAL;VALUE=DURATION:PT1H
X-Robots-Tag:noindex
X-PUBLISHED-TTL:PT1H
BEGIN:VTIMEZONE
TZID:America/Chicago
BEGIN:DAYLIGHT
TZOFFSETFROM:-0600
TZOFFSETTO:-0500
TZNAME:CDT
DTSTART:20250309T080000
END:DAYLIGHT
BEGIN:STANDARD
TZOFFSETFROM:-0500
TZOFFSETTO:-0600
TZNAME:CST
DTSTART:20251102T070000
END:STANDARD
END:VTIMEZONE
BEGIN:VEVENT
DTSTART;TZID=America/Chicago:20250826T090000
DTEND;TZID=America/Chicago:20250826T160000
DTSTAMP:20260422T062445
CREATED:20250807T140747Z
LAST-MODIFIED:20250807T140747Z
UID:10006259-1756198800-1756224000@www.ajcwheeling.com
SUMMARY:Drop-In Resume Assistance - Are You Ready? (In-Person)
DESCRIPTION:Are You Ready?\nDrop-In Resume Assistance\n9:00AM – 11:30AM \n1:30PM – 4:00PM \nGet support and guidance to strengthen your \nresume or build one targeted to specific \njob opportunities – no appointment needed! \nDrop-In Resume Assistance – August 2025\n  \nLocation:\nAmerican Job Center in Wheeling\n1400 S Wolf Road\, Building 200\, Suite 200\, Wheeling\, IL 60090\n1/2 block south of Palatine-Willow Road on the WEST side of Wolf Road. Turn into parking lot and make an immediate RIGHT turn. Ample free parking at the front of the building. \nPLEASE NOTE: \nThe American Job Center in Wheeling is committed to providing all customers with quality\, professional services as well as a safe and comfortable learning environment. The use of our resources implies acceptance of our Customer Code of Conduct\, which is based on the principle of respect for all customers and staff. READ: https://www.ajcwheeling.com/wp-content/uploads/2020/08/Customer-Code-of-Conduct-handout.pdf \nQUESTIONS? Email contact@bcsillinois.org \nsubject to change without notice.
URL:https://www.ajcwheeling.com/event/drop-in-resume-assistance-are-you-ready-in-person-3/
LOCATION:American Job Center in Wheeling\, 1400 South Wolf Road\, Building 200\, Suite 200\, Wheeling\, IL\, 60090\, United States
CATEGORIES:Job Search Workshop
ATTACH;FMTTYPE=image/jpeg:https://www.ajcwheeling.com/wp-content/uploads/2025/08/08-2025-Drop-In-Resume-Assist.jpg
ORGANIZER;CN="Business%20and%20Career%20Services%20Inc.":MAILTO:contact@bcsillinois.org
END:VEVENT
BEGIN:VEVENT
DTSTART;TZID=America/Chicago:20250826T133000
DTEND;TZID=America/Chicago:20250826T150000
DTSTAMP:20260422T062445
CREATED:20250211T021008Z
LAST-MODIFIED:20250219T204633Z
UID:10006002-1756215000-1756220400@www.ajcwheeling.com
SUMMARY:Illinois State Treasurer I-Cash event
DESCRIPTION:  \n \n \nClick below to download flyer \nIll State Treasure at AJC flyer 2025 \n 
URL:https://www.ajcwheeling.com/event/illinois-state-treasurer-i-cash-event/2025-08-26/
LOCATION:American Job Center in Wheeling\, 1400 South Wolf Road\, Building 200\, Suite 200\, Wheeling\, IL\, 60090\, United States
CATEGORIES:Resource Fair
ATTACH;FMTTYPE=image/jpeg:https://www.ajcwheeling.com/wp-content/uploads/2025/02/ICash-flyer-component.jpg
ORGANIZER;CN="Business%20and%20Career%20Services%20Inc.":MAILTO:contact@bcsillinois.org
END:VEVENT
BEGIN:VEVENT
DTSTART;TZID=America/Chicago:20250826T133000
DTEND;TZID=America/Chicago:20250826T150000
DTSTAMP:20260422T062445
CREATED:20251027T171050Z
LAST-MODIFIED:20251027T171050Z
UID:10006437-1756215000-1756220400@www.ajcwheeling.com
SUMMARY:Illinois State Treasurer I-Cash event
DESCRIPTION:  \n \n \nClick below to download flyer \nIll State Treasure at AJC flyer 2025 \n 
URL:https://www.ajcwheeling.com/event/illinois-state-treasurer-i-cash-event-2/2025-08-26/
LOCATION:American Job Center in Wheeling\, 1400 South Wolf Road\, Building 200\, Suite 200\, Wheeling\, IL\, 60090\, United States
CATEGORIES:Resource Fair
ATTACH;FMTTYPE=image/jpeg:https://www.ajcwheeling.com/wp-content/uploads/2025/02/ICash-flyer-component.jpg
ORGANIZER;CN="Business%20and%20Career%20Services%20Inc.":MAILTO:contact@bcsillinois.org
END:VEVENT
END:VCALENDAR