BEGIN:VCALENDAR
VERSION:2.0
PRODID:-//American Job Center in Wheeling - ECPv6.0.13.1//NONSGML v1.0//EN
CALSCALE:GREGORIAN
METHOD:PUBLISH
X-ORIGINAL-URL:https://www.ajcwheeling.com
X-WR-CALDESC:Events for American Job Center in Wheeling
REFRESH-INTERVAL;VALUE=DURATION:PT1H
X-Robots-Tag:noindex
X-PUBLISHED-TTL:PT1H
BEGIN:VTIMEZONE
TZID:America/Chicago
BEGIN:DAYLIGHT
TZOFFSETFROM:-0600
TZOFFSETTO:-0500
TZNAME:CDT
DTSTART:20250309T080000
END:DAYLIGHT
BEGIN:STANDARD
TZOFFSETFROM:-0500
TZOFFSETTO:-0600
TZNAME:CST
DTSTART:20251102T070000
END:STANDARD
END:VTIMEZONE
BEGIN:VEVENT
DTSTART;TZID=America/Chicago:20250830T100000
DTEND;TZID=America/Chicago:20250830T120000
DTSTAMP:20260420T030327
CREATED:20250814T175235Z
LAST-MODIFIED:20250814T175235Z
UID:10006270-1756548000-1756555200@www.ajcwheeling.com
SUMMARY:Bright Horizons Hiring Event
DESCRIPTION:  \nJoin our in-person event to learn about career opportunities\, tour our center\, and meet the team at Bright Horizons at Evanston.\nWe offer extensive benefits including \n\n401(k)\, health insurance\nPTO\nOpportunity to earn your ECE Degree for FREE through our Horizons CDA & Degree Program.\n\n  \nBright Horizons at Evanston\n1629 Orrington Ave.\, Suite C.\, Evanston IL 60201\nDate: Saturday\, August 30th\nTime: 10:00am – 12:00pm
URL:https://www.ajcwheeling.com/event/bright-horizons-hiring-event-2/
LOCATION:Bright Horizons Evanston\, 1629 Orrington Ave.\, Suite C.\,\, Evanston\, 60201\, United States
CATEGORIES:Hiring Event,Job Fair
ATTACH;FMTTYPE=image/jpeg:https://www.ajcwheeling.com/wp-content/uploads/2025/08/2025.08.30-Bright-Horizons-Hiring-Event-Evanston-JPG.jpg
ORGANIZER;CN="Bright%20Horizons":MAILTO:dana.cawthorne@brighthorizons.com
END:VEVENT
END:VCALENDAR