BEGIN:VCALENDAR
VERSION:2.0
PRODID:-//American Job Center in Wheeling - ECPv6.0.13.1//NONSGML v1.0//EN
CALSCALE:GREGORIAN
METHOD:PUBLISH
X-WR-CALNAME:American Job Center in Wheeling
X-ORIGINAL-URL:https://www.ajcwheeling.com
X-WR-CALDESC:Events for American Job Center in Wheeling
REFRESH-INTERVAL;VALUE=DURATION:PT1H
X-Robots-Tag:noindex
X-PUBLISHED-TTL:PT1H
BEGIN:VTIMEZONE
TZID:America/Chicago
BEGIN:DAYLIGHT
TZOFFSETFROM:-0600
TZOFFSETTO:-0500
TZNAME:CDT
DTSTART:20230312T080000
END:DAYLIGHT
BEGIN:STANDARD
TZOFFSETFROM:-0500
TZOFFSETTO:-0600
TZNAME:CST
DTSTART:20231105T070000
END:STANDARD
END:VTIMEZONE
BEGIN:VEVENT
DTSTART;TZID=America/Chicago:20231025T130000
DTEND;TZID=America/Chicago:20231025T160000
DTSTAMP:20260420T214037
CREATED:20231011T194306Z
LAST-MODIFIED:20231025T223015Z
UID:10005131-1698238800-1698249600@www.ajcwheeling.com
SUMMARY:Cook County Career Connector – North Suburban Hiring  Career Resources Event
DESCRIPTION:Hiring for hundreds of jobs at all levels – from entry level to senior management! \n \n\n\nQuestions? email contact@bcsillinois.org \nFunding for the North Suburban Cook County American Job Center is made possible through a grant provided by the Chicago Cook Workforce Partnership. We are an equal opportunity employer. Auxiliary aids and services are available upon request to individuals with disabilities. \n 
URL:https://www.ajcwheeling.com/event/cook-county-career-connector-north-suburban-hiring-career-resources-event/
LOCATION:Harper College Learning and Career Center\, 1375 South Wolf Road\, Prospect Heights\, IL\, 60070\, United States
CATEGORIES:Cook County Career Connector
ATTACH;FMTTYPE=image/jpeg:https://www.ajcwheeling.com/wp-content/uploads/2023/06/CareerConnect_Women_Employer-and-Job-Seeker_Large-ShGBdv.tmp_.jpg
END:VEVENT
END:VCALENDAR