BEGIN:VCALENDAR
VERSION:2.0
PRODID:-//American Job Center in Wheeling - ECPv6.0.13.1//NONSGML v1.0//EN
CALSCALE:GREGORIAN
METHOD:PUBLISH
X-WR-CALNAME:American Job Center in Wheeling
X-ORIGINAL-URL:https://www.ajcwheeling.com
X-WR-CALDESC:Events for American Job Center in Wheeling
REFRESH-INTERVAL;VALUE=DURATION:PT1H
X-Robots-Tag:noindex
X-PUBLISHED-TTL:PT1H
BEGIN:VTIMEZONE
TZID:America/Chicago
BEGIN:DAYLIGHT
TZOFFSETFROM:-0600
TZOFFSETTO:-0500
TZNAME:CDT
DTSTART:20220313T080000
END:DAYLIGHT
BEGIN:STANDARD
TZOFFSETFROM:-0500
TZOFFSETTO:-0600
TZNAME:CST
DTSTART:20221106T070000
END:STANDARD
END:VTIMEZONE
BEGIN:VEVENT
DTSTART;TZID=America/Chicago:20220630T100000
DTEND;TZID=America/Chicago:20220630T140000
DTSTAMP:20260421T230853
CREATED:20220616T135048Z
LAST-MODIFIED:20220630T234845Z
UID:10004196-1656583200-1656597600@www.ajcwheeling.com
SUMMARY:South Suburban Cook County AJC at Prairie State College Career Connector Event
DESCRIPTION:At this event individuals can meet with employers from industries such as IT\, Healthcare\, Transportation\, Retail and Hospitality and More. \n \n 
URL:https://www.ajcwheeling.com/event/south-suburban-cook-county-ajc-at-prairie-state-college-career-connector-event/
LOCATION:South Suburban Cook County American Job Center at Prairie State College\, 202 S. Halsted St Room A148\, Chicago Heights\, IL\, 60411\, United States
CATEGORIES:Cook County Career Connector
ATTACH;FMTTYPE=image/png:https://www.ajcwheeling.com/wp-content/uploads/2022/05/cccc_logo-iYUwvS.tmp_.png
END:VEVENT
END:VCALENDAR