BEGIN:VCALENDAR
VERSION:2.0
PRODID:-//American Job Center in Wheeling - ECPv6.0.13.1//NONSGML v1.0//EN
CALSCALE:GREGORIAN
METHOD:PUBLISH
X-ORIGINAL-URL:https://www.ajcwheeling.com
X-WR-CALDESC:Events for American Job Center in Wheeling
REFRESH-INTERVAL;VALUE=DURATION:PT1H
X-Robots-Tag:noindex
X-PUBLISHED-TTL:PT1H
BEGIN:VTIMEZONE
TZID:America/Chicago
BEGIN:DAYLIGHT
TZOFFSETFROM:-0600
TZOFFSETTO:-0500
TZNAME:CDT
DTSTART:20230312T080000
END:DAYLIGHT
BEGIN:STANDARD
TZOFFSETFROM:-0500
TZOFFSETTO:-0600
TZNAME:CST
DTSTART:20231105T070000
END:STANDARD
BEGIN:DAYLIGHT
TZOFFSETFROM:-0600
TZOFFSETTO:-0500
TZNAME:CDT
DTSTART:20240310T080000
END:DAYLIGHT
BEGIN:STANDARD
TZOFFSETFROM:-0500
TZOFFSETTO:-0600
TZNAME:CST
DTSTART:20241103T070000
END:STANDARD
BEGIN:DAYLIGHT
TZOFFSETFROM:-0600
TZOFFSETTO:-0500
TZNAME:CDT
DTSTART:20250309T080000
END:DAYLIGHT
BEGIN:STANDARD
TZOFFSETFROM:-0500
TZOFFSETTO:-0600
TZNAME:CST
DTSTART:20251102T070000
END:STANDARD
END:VTIMEZONE
BEGIN:VEVENT
DTSTART;TZID=America/Chicago:20250415T090000
DTEND;TZID=America/Chicago:20250415T150000
DTSTAMP:20260424T002226
CREATED:20250218T220023Z
LAST-MODIFIED:20250407T213100Z
UID:10005981-1744707600-1744729200@www.ajcwheeling.com
SUMMARY:Hospitality Hires Chicago 2025: The Eighth Year is a Great Year
DESCRIPTION:  \n  \n\n\n\n  \n\n\n\nHospitality Hires Chicago 2025: The Eighth Year is a Great Year \nSave the date for the 8th Annual Hospitality Hires Chicago\, a Chicago Cook Workforce Partnership production\, on Tuesday April 15 from 9 am to 3 pm! This year’s event will once again be held at the Palmer House Hilton Hotel\, 17 East Monroe Street\, Chicago. \nHere’s a look at last year’s event: https://youtu.be/eMML1T72oek \n \nHospitality Hires Chicago is an opportunity for employers and pre-screened job seekers to meet and interview. Working with Chicago and Cook County’s premier workforce agencies\, HHC provides employers with an opportunity to take a strategic approach to finding your next best hire and for job seekers to find their next best employment opportunity. \nTo date\, HHC events have helped more than 1\,000 people get hired or secure conditional job offers and have provided more than 400 employers with access to more than a thousand pre-screened work-ready candidates. Employers from hospitality & tourism\, retail\, transportation\, food services\, customer service\, and related sectors attend and are committed to hiring hundreds of local residents. \nCareer seeker registration opens on Tuesday\, February 25. Check out our website or follow us on social media to register. \nThank you to our HHC 2025 sponsors: Choose Chicago\, The Magnificent Mile Association\, Illinois Restaurant Association\, Illinois Hotel and Lodging Association\, Chicago Loop Alliance\, Near South Planning Board\, Cook County and the City of Chicago\, Origami Work Foundation are excited to partner with the Chicago Cook Workforce Partnership for this event.
URL:https://www.ajcwheeling.com/event/hospitality-hires-chicago-2025-the-eighth-year-is-a-great-year/
LOCATION:Palmer House Hilton\, 17 E. Monroe\, Chicago\, IL\, 60603\, United States
CATEGORIES:Hiring Event,Job Fair
ATTACH;FMTTYPE=image/jpeg:https://www.ajcwheeling.com/wp-content/uploads/2025/02/HHC-8-Email-003-008.jpg
END:VEVENT
BEGIN:VEVENT
DTSTART;TZID=America/Chicago:20241112T093000
DTEND;TZID=America/Chicago:20241112T123000
DTSTAMP:20260424T002226
CREATED:20241101T192933Z
LAST-MODIFIED:20241101T192933Z
UID:10005804-1731403800-1731414600@www.ajcwheeling.com
SUMMARY:All Industry Hiring Event
DESCRIPTION:
URL:https://www.ajcwheeling.com/event/all-industry-hiring-event/
LOCATION:Blue Door Neighborhood Center on Cermak\, 2551 W Cermak Road\, Chicago\, IL\, 60608\, United States
ATTACH;FMTTYPE=image/jpeg:https://www.ajcwheeling.com/wp-content/uploads/2024/11/alll-industry-graphic.jpg
END:VEVENT
BEGIN:VEVENT
DTSTART;TZID=America/Chicago:20240731T080000
DTEND;TZID=America/Chicago:20240731T170000
DTSTAMP:20260424T002226
CREATED:20240711T202751Z
LAST-MODIFIED:20240711T202751Z
UID:10005631-1722412800-1722445200@www.ajcwheeling.com
SUMMARY:Job Fair - Chicago Residents and New Arrivals
DESCRIPTION:Discover your next opportunity at the Chicago Residents and New Arrivals Job Fair Event on July 31st. This event offers valuable opportunities for both local residents and newcomers with valid work authorization. \nDate: Wednesday\, July 31 \nTime: 10:00am – 2:00pm \nArturo Velasquez Institute\nConference Center\, Room 1203\n2800 S. Western Avenue\nChicago\, IL 60608 \nCareer Seeker Registration:  https://fs21.formsite.com/Workforce_Partnership/cix3cbncvi/index \nEmployer Interest Form: https://fs21.formsite.com/Workforce_Partnership/eokwkspbfy/index
URL:https://www.ajcwheeling.com/event/job-fair-chicago-residents-and-new-arrivals/
LOCATION:Arturo Velasquez Institute\, 2800 S. Western Avenue\, Chicago\, IL\, 60608\, United States
CATEGORIES:Job Fair
ATTACH;FMTTYPE=image/jpeg:https://www.ajcwheeling.com/wp-content/uploads/2024/07/2024.07.31-Chicago-Resident-and-New-Arrival-Job-Fair-copy-JOB-SEEKER.jpg
END:VEVENT
BEGIN:VEVENT
DTSTART;TZID=America/Chicago:20230912T090000
DTEND;TZID=America/Chicago:20230912T130000
DTSTAMP:20260424T002226
CREATED:20230911T175506Z
LAST-MODIFIED:20230911T184319Z
UID:10005116-1694509200-1694523600@www.ajcwheeling.com
SUMMARY:Restaurant and Retail Hiring Event
DESCRIPTION:
URL:https://www.ajcwheeling.com/event/restaurant-and-retail-hiring-event/
LOCATION:O’Hare Terminal 2 Baggage Claim\, 10000 W O'Hare Avenue Terminal 2 Baggage Claim\, Chicago\, IL\, 60666\, United States
CATEGORIES:Hiring Event
ATTACH;FMTTYPE=image/jpeg:https://www.ajcwheeling.com/wp-content/uploads/2023/09/2023.09.12-Restaurant-Retail-Hiring-Event-HEADLINE.jpg
END:VEVENT
END:VCALENDAR