BEGIN:VCALENDAR
VERSION:2.0
PRODID:-//American Job Center in Wheeling - ECPv6.0.13.1//NONSGML v1.0//EN
CALSCALE:GREGORIAN
METHOD:PUBLISH
X-WR-CALNAME:American Job Center in Wheeling
X-ORIGINAL-URL:https://www.ajcwheeling.com
X-WR-CALDESC:Events for American Job Center in Wheeling
REFRESH-INTERVAL;VALUE=DURATION:PT1H
X-Robots-Tag:noindex
X-PUBLISHED-TTL:PT1H
BEGIN:VTIMEZONE
TZID:America/Chicago
BEGIN:DAYLIGHT
TZOFFSETFROM:-0600
TZOFFSETTO:-0500
TZNAME:CDT
DTSTART:20230312T080000
END:DAYLIGHT
BEGIN:STANDARD
TZOFFSETFROM:-0500
TZOFFSETTO:-0600
TZNAME:CST
DTSTART:20231105T070000
END:STANDARD
BEGIN:DAYLIGHT
TZOFFSETFROM:-0600
TZOFFSETTO:-0500
TZNAME:CDT
DTSTART:20240310T080000
END:DAYLIGHT
BEGIN:STANDARD
TZOFFSETFROM:-0500
TZOFFSETTO:-0600
TZNAME:CST
DTSTART:20241103T070000
END:STANDARD
END:VTIMEZONE
BEGIN:VEVENT
DTSTART;TZID=America/Chicago:20240112T150000
DTEND;TZID=America/Chicago:20240112T160000
DTSTAMP:20260424T022443
CREATED:20240109T225213Z
LAST-MODIFIED:20240109T230704Z
UID:10005271-1705071600-1705075200@www.ajcwheeling.com
SUMMARY:Jump Start Your Career -Manufacturing Careers Internship Program
DESCRIPTION:Are you ready to learn about career paths? Get a paid internship? \nJump Start Your Career -Manufacturing Careers Internship Program \n\nAre you ready to learn about career paths? Get a paid internship?\nAre you 18-24 years old?*\nDo you live in Suburban Cook County?*\nAre you looking for a career opportunity?\nDo you want to take charge of your career?\n\n \nhttps://www.eventbrite.com/e/772522394277 \n*this program is limited to Suburban Cook County (north\, south\, west) residents ages 18-24 years. Other programs are available if you do not meet this requirement for this program. Subject to change without notice. 
URL:https://www.ajcwheeling.com/event/jump-start-your-career-manufacturing-careers-internship-program-3/
ATTACH;FMTTYPE=image/jpeg:https://www.ajcwheeling.com/wp-content/uploads/2023/12/1c2b006d7cb33d8f97861e0547bb273b.jpg
END:VEVENT
BEGIN:VEVENT
DTSTART;TZID=America/Chicago:20240112T100000
DTEND;TZID=America/Chicago:20240112T110000
DTSTAMP:20260424T022443
CREATED:20240109T225213Z
LAST-MODIFIED:20240109T230407Z
UID:10005270-1705053600-1705057200@www.ajcwheeling.com
SUMMARY:Jump Start Your Career -Manufacturing Careers Internship Program
DESCRIPTION:Are you ready to learn about career paths? Get a paid internship? \nJump Start Your Career -Manufacturing Careers Internship Program \n\nAre you ready to learn about career paths? Get a paid internship?\nAre you 18-24 years old?*\nDo you live in Suburban Cook County?*\nAre you looking for a career opportunity?\nDo you want to take charge of your career?\n\n \nhttps://www.eventbrite.com/e/772522394277 \n*this program is limited to Suburban Cook County (north\, south\, west) residents ages 18-24 years. Other programs are available if you do not meet this requirement for this program. Subject to change without notice. 
URL:https://www.ajcwheeling.com/event/jump-start-your-career-manufacturing-careers-internship-program-2/
ATTACH;FMTTYPE=image/jpeg:https://www.ajcwheeling.com/wp-content/uploads/2023/12/1c2b006d7cb33d8f97861e0547bb273b.jpg
END:VEVENT
BEGIN:VEVENT
DTSTART;TZID=America/Chicago:20240111T160000
DTEND;TZID=America/Chicago:20240111T170000
DTSTAMP:20260424T022443
CREATED:20240109T225212Z
LAST-MODIFIED:20240109T225951Z
UID:10005269-1704988800-1704992400@www.ajcwheeling.com
SUMMARY:Jump Start Your Career -Manufacturing Careers Internship Program
DESCRIPTION:Are you ready to learn about career paths? Get a paid internship? \nJump Start Your Career -Manufacturing Careers Internship Program\n\n\nAre you ready to learn about career paths? Get a paid internship?\nAre you 18-24 years old?*\nDo you live in Suburban Cook County?*\nAre you looking for a career opportunity?\nDo you want to take charge of your career?\n\n \nhttps://www.eventbrite.com/e/772522394277 \n\n*this program is limited to Suburban Cook County (north\, south\, west) residents ages 18-24 years. Other programs are available if you do not meet this requirement for this program. Subject to change without notice. 
URL:https://www.ajcwheeling.com/event/jump-start-your-career-manufacturing-careers-internship-program/
ATTACH;FMTTYPE=image/jpeg:https://www.ajcwheeling.com/wp-content/uploads/2023/12/1c2b006d7cb33d8f97861e0547bb273b.jpg
END:VEVENT
BEGIN:VEVENT
DTSTART;TZID=America/Chicago:20231220T180000
DTEND;TZID=America/Chicago:20231220T190000
DTSTAMP:20260424T022443
CREATED:20231211T232504Z
LAST-MODIFIED:20231211T233719Z
UID:10005240-1703095200-1703098800@www.ajcwheeling.com
SUMMARY:Jump Start Your Career - Manufacturing Careers Internship Program (Virtual Info Session)
DESCRIPTION:Jump Start Your Career -Manufacturing Careers Internship Program\n\n\nAre you ready to learn about career paths? Get a paid internship?\nAre you 18-24 years old?*\nDo you live in Evanston?*\nAre you looking for a career opportunity?\nDo you want to take charge of your career?\n\n\n\n\n\n\n\n\n*this program is limited to Evanston residents ages 18-24 years.\n\n\n\nOther programs are available if you do not meet this requirement for this program.
URL:https://www.ajcwheeling.com/event/jump-start-your-career-manufacturing-careers-internship-program-virtual-info-session/2023-12-20/
ATTACH;FMTTYPE=image/jpeg:https://www.ajcwheeling.com/wp-content/uploads/2023/12/1c2b006d7cb33d8f97861e0547bb273b.jpg
END:VEVENT
BEGIN:VEVENT
DTSTART;TZID=America/Chicago:20231219T160000
DTEND;TZID=America/Chicago:20231219T170000
DTSTAMP:20260424T022443
CREATED:20231211T232504Z
LAST-MODIFIED:20231211T233719Z
UID:10005239-1703001600-1703005200@www.ajcwheeling.com
SUMMARY:Jump Start Your Career - Manufacturing Careers Internship Program (Virtual Info Session)
DESCRIPTION:Jump Start Your Career -Manufacturing Careers Internship Program\n\n\nAre you ready to learn about career paths? Get a paid internship?\nAre you 18-24 years old?*\nDo you live in Evanston?*\nAre you looking for a career opportunity?\nDo you want to take charge of your career?\n\n\n\n\n\n\n\n\n*this program is limited to Evanston residents ages 18-24 years.\n\n\n\nOther programs are available if you do not meet this requirement for this program.
URL:https://www.ajcwheeling.com/event/jump-start-your-career-manufacturing-careers-internship-program-virtual-info-session/2023-12-19/
ATTACH;FMTTYPE=image/jpeg:https://www.ajcwheeling.com/wp-content/uploads/2023/12/1c2b006d7cb33d8f97861e0547bb273b.jpg
END:VEVENT
END:VCALENDAR