BEGIN:VCALENDAR
VERSION:2.0
PRODID:-//American Job Center in Wheeling - ECPv6.0.13.1//NONSGML v1.0//EN
CALSCALE:GREGORIAN
METHOD:PUBLISH
X-ORIGINAL-URL:https://www.ajcwheeling.com
X-WR-CALDESC:Events for American Job Center in Wheeling
REFRESH-INTERVAL;VALUE=DURATION:PT1H
X-Robots-Tag:noindex
X-PUBLISHED-TTL:PT1H
BEGIN:VTIMEZONE
TZID:America/Chicago
BEGIN:DAYLIGHT
TZOFFSETFROM:-0600
TZOFFSETTO:-0500
TZNAME:CDT
DTSTART:20240310T080000
END:DAYLIGHT
BEGIN:STANDARD
TZOFFSETFROM:-0500
TZOFFSETTO:-0600
TZNAME:CST
DTSTART:20241103T070000
END:STANDARD
END:VTIMEZONE
BEGIN:VEVENT
DTSTART;TZID=America/Chicago:20241119T100000
DTEND;TZID=America/Chicago:20241119T140000
DTSTAMP:20260424T085232
CREATED:20241118T010828Z
LAST-MODIFIED:20241118T012240Z
UID:10005836-1732010400-1732024800@www.ajcwheeling.com
SUMMARY:The People’s Plan Hiring Event
DESCRIPTION:The People’s Plan Hiring Event\n\n\nThe Mayor’s Office of Community Safety Presents: / La Oficina de Seguridad Comunitaria de la Alcaldía presenta: \nThe People’s Plan Hiring Event / El evento de contratación del Plan del Pueblo \nKennedy-King College\n740 W 63rd Street\nChicago\, IL 60621 \n\n \nColegio Kennedy-King 740 W 63 Calle Chicago\, IL 60621\n\nPresented by/Presentado por: Mayor’s office of Community Safety / Alcaldía de Seguridad Comunitaria \nChicago Cook Workforce Partnership / Asociación de la fuerza laboral de Chicago Cook\nSt. Sabina Employment Resource Center / Centro de recursos laborales de St. Sabina
URL:https://www.ajcwheeling.com/event/the-peoples-plan-hiring-event/
LOCATION:Kennedy-King College\, 740 W 63rd Street\, Chicago\, IL\, 60621\, United States
CATEGORIES:Hiring Event
ATTACH;FMTTYPE=image/jpeg:https://www.ajcwheeling.com/wp-content/uploads/2024/11/2024.11.19-Peoples-Plan-graphic.jpg
END:VEVENT
END:VCALENDAR