BEGIN:VCALENDAR
VERSION:2.0
PRODID:-//American Job Center in Wheeling - ECPv6.0.13.1//NONSGML v1.0//EN
CALSCALE:GREGORIAN
METHOD:PUBLISH
X-ORIGINAL-URL:https://www.ajcwheeling.com
X-WR-CALDESC:Events for American Job Center in Wheeling
REFRESH-INTERVAL;VALUE=DURATION:PT1H
X-Robots-Tag:noindex
X-PUBLISHED-TTL:PT1H
BEGIN:VTIMEZONE
TZID:America/Chicago
BEGIN:DAYLIGHT
TZOFFSETFROM:-0600
TZOFFSETTO:-0500
TZNAME:CDT
DTSTART:20210314T080000
END:DAYLIGHT
BEGIN:STANDARD
TZOFFSETFROM:-0500
TZOFFSETTO:-0600
TZNAME:CST
DTSTART:20211107T070000
END:STANDARD
BEGIN:DAYLIGHT
TZOFFSETFROM:-0600
TZOFFSETTO:-0500
TZNAME:CDT
DTSTART:20220313T080000
END:DAYLIGHT
BEGIN:STANDARD
TZOFFSETFROM:-0500
TZOFFSETTO:-0600
TZNAME:CST
DTSTART:20221106T070000
END:STANDARD
BEGIN:DAYLIGHT
TZOFFSETFROM:-0600
TZOFFSETTO:-0500
TZNAME:CDT
DTSTART:20230312T080000
END:DAYLIGHT
BEGIN:STANDARD
TZOFFSETFROM:-0500
TZOFFSETTO:-0600
TZNAME:CST
DTSTART:20231105T070000
END:STANDARD
END:VTIMEZONE
BEGIN:VEVENT
DTSTART;TZID=America/Chicago:20230621T100000
DTEND;TZID=America/Chicago:20230621T140000
DTSTAMP:20260424T081250
CREATED:20230605T184902Z
LAST-MODIFIED:20230621T235912Z
UID:10004931-1687341600-1687356000@www.ajcwheeling.com
SUMMARY:Cook County Career Connector: South Suburban Cook County Hiring Event
DESCRIPTION:Background Friendly! Expungement clinic\, Free training programs\, and Raffles on-site!
URL:https://www.ajcwheeling.com/event/cook-county-career-connector-south-suburban-cook-county-hiring-event/
LOCATION:Chicago Heights Park District\, 1400 Chicago Road\, Chicago Heights\, IL\, 60411\, United States
ATTACH;FMTTYPE=image/jpeg:https://www.ajcwheeling.com/wp-content/uploads/2023/06/CareerConnect_Women_Employer-and-Job-Seeker_Large-ShGBdv.tmp_.jpg
END:VEVENT
BEGIN:VEVENT
DTSTART;TZID=America/Chicago:20220224T100000
DTEND;TZID=America/Chicago:20220224T130000
DTSTAMP:20260424T081250
CREATED:20220222T195159Z
LAST-MODIFIED:20220222T211857Z
UID:10004051-1645696800-1645707600@www.ajcwheeling.com
SUMMARY:Chicago Southland Hiring Event
DESCRIPTION:Location: Victory Apostolic Church\,\n20801 Matteson Ave\, Matteson\, IL 60443 \nDate & Time: Feb 24\, 10 AM – 1 PM \nResume collection\, screening\, interviews & job offers! \nEMPLOYERS ON SITE!\nMANUFACTURING | HEALTHCARE | RETAIL | TRANSPORTATION\,DISTRIBUTION & LOGISTICS
URL:https://www.ajcwheeling.com/event/chicago-southland-hiring-event/
LOCATION:Victory Apostolic Church\, 20801 Matteson Ave\, Matteson\, IL\, 60443\, United States
ATTACH;FMTTYPE=image/jpeg:https://www.ajcwheeling.com/wp-content/uploads/2022/02/Chicago_Southland_Hiring_Event-e1645560289744.jpg
END:VEVENT
BEGIN:VEVENT
DTSTART;TZID=America/Chicago:20210722T090000
DTEND;TZID=America/Chicago:20210722T160000
DTSTAMP:20260424T081250
CREATED:20210716T185230Z
LAST-MODIFIED:20210722T234746Z
UID:10003786-1626944400-1626969600@www.ajcwheeling.com
SUMMARY:Chicago Southland Outdoor Job Fair & Hiring Event
DESCRIPTION:Your resume is required. Walk-ins are welcome.\nOn-site services include: Training programs\, expungement consultation \nOn-site employers include: Alpha Products\, Avatar\, Dot Food\, Solvay\, LB Steel\, and More to Come \nCareer opportunities at major Manufacturing companies\, such as Panduit\, GC America\, Bimba\, Agrati\, Mi-Jack Products\, and Morrison Container; Major TDL companies such as R.H. Robinson and CTA; Regional Healthcare employers such as Aperion Care and Aishling Companion Home Care. \nPlease contact xiaofanliu@oaiinc.org or (708) 283-5020 for inquiries. \nClick here for the event flyer.
URL:https://www.ajcwheeling.com/event/chicago-southland-outdoor-job-fair-hiring-event/
LOCATION:Park Forest\, 208 Forest Blvd\, Park Forest\, IL\, 60466\, United States
ATTACH;FMTTYPE=image/jpeg:https://www.ajcwheeling.com/wp-content/uploads/2021/07/Depositphotos_3308157_xl-2015-scaled-Dkwkds.tmp_.jpg
END:VEVENT
END:VCALENDAR