BEGIN:VCALENDAR
VERSION:2.0
PRODID:-//American Job Center in Wheeling - ECPv6.0.13.1//NONSGML v1.0//EN
CALSCALE:GREGORIAN
METHOD:PUBLISH
X-ORIGINAL-URL:https://www.ajcwheeling.com
X-WR-CALDESC:Events for American Job Center in Wheeling
REFRESH-INTERVAL;VALUE=DURATION:PT1H
X-Robots-Tag:noindex
X-PUBLISHED-TTL:PT1H
BEGIN:VTIMEZONE
TZID:America/Chicago
BEGIN:DAYLIGHT
TZOFFSETFROM:-0600
TZOFFSETTO:-0500
TZNAME:CDT
DTSTART:20230312T080000
END:DAYLIGHT
BEGIN:STANDARD
TZOFFSETFROM:-0500
TZOFFSETTO:-0600
TZNAME:CST
DTSTART:20231105T070000
END:STANDARD
END:VTIMEZONE
BEGIN:VEVENT
DTSTART;TZID=America/Chicago:20230923T110000
DTEND;TZID=America/Chicago:20230923T160000
DTSTAMP:20260424T040720
CREATED:20230920T020143Z
LAST-MODIFIED:20230920T020143Z
UID:10005127-1695466800-1695484800@www.ajcwheeling.com
SUMMARY:Amazon Military Hiring Event
DESCRIPTION:Amazon Warehouse In-person Hiring Event\nSeptember 23rd\n11:00 a.m. – 4:00 p.m. \n \nRSVP Here:\nhttps://amazonhiringday.splashthat.com/ \nLearn more Military vets\, active duty\, and spouses — get set for success\nGet all your questions answered regarding the job\, pay\, and schedules while learning how our warehouse roles are uniquely positioned to support you — no matter where you might be in your career or military transition.\nIf you have a disability and need an accommodation during the application\nand hiring process\, please visit amazon.com/accommodations or \ncontact us by phone at 888-435-9287\, Monday through Friday\, between 6 a.m. and 4 p.m. PT. \nIf you receive and accept an offer You will need to provide proof of your identity and employment eligibility as required by federal law by completing a Form I-9. Can’t make it? \nAmazon is proud to be an equal opportunity employer. amazon.com/militaryjobs to learn more. \nText MILITARY to 77088 to sign up for alerts form Amazon.*\nLearn more Military vets\, active duty\, and spouses — get set for success \n* By participating\, you agree to the terms and\nprivacy policy at sms-terms.com/amazon\nfor recurring autodialed marketing messages\nfrom Amazon\, to the phone number you\nprovide. No consent required to buy. Message\nand data rates may apply. Text HELP for help\nor STOP to end. \nSeptember 23rd\n11:00 a.m. – 4:00 p.m. \n \nRSVP Here:\nhttps://amazonhiringday.splashthat.com/ \nAmazon Military\nIn-Person Hiring Event \n2424 S Halsted Street\nChicago\, IL\, US\, 60608 \nVisit amazon.com/mhd to learn more. \n \nCLICK HERE TO DOWNLOAD FLYER
URL:https://www.ajcwheeling.com/event/amazon-military-hiring-event/
LOCATION:Amazon Military Hiring\, 2424 S Halsted Street\, Chicago\, IL\, 60608\, United States
CATEGORIES:Hiring Event,Job Fair
ATTACH;FMTTYPE=image/jpeg:https://www.ajcwheeling.com/wp-content/uploads/2023/09/AMAZON-LOGO.jpg
END:VEVENT
END:VCALENDAR