BEGIN:VCALENDAR
VERSION:2.0
PRODID:-//American Job Center in Wheeling - ECPv6.0.13.1//NONSGML v1.0//EN
CALSCALE:GREGORIAN
METHOD:PUBLISH
X-WR-CALNAME:American Job Center in Wheeling
X-ORIGINAL-URL:https://www.ajcwheeling.com
X-WR-CALDESC:Events for American Job Center in Wheeling
REFRESH-INTERVAL;VALUE=DURATION:PT1H
X-Robots-Tag:noindex
X-PUBLISHED-TTL:PT1H
BEGIN:VTIMEZONE
TZID:America/Chicago
BEGIN:DAYLIGHT
TZOFFSETFROM:-0600
TZOFFSETTO:-0500
TZNAME:CDT
DTSTART:20240310T080000
END:DAYLIGHT
BEGIN:STANDARD
TZOFFSETFROM:-0500
TZOFFSETTO:-0600
TZNAME:CST
DTSTART:20241103T070000
END:STANDARD
BEGIN:DAYLIGHT
TZOFFSETFROM:-0600
TZOFFSETTO:-0500
TZNAME:CDT
DTSTART:20250309T080000
END:DAYLIGHT
BEGIN:STANDARD
TZOFFSETFROM:-0500
TZOFFSETTO:-0600
TZNAME:CST
DTSTART:20251102T070000
END:STANDARD
BEGIN:DAYLIGHT
TZOFFSETFROM:-0600
TZOFFSETTO:-0500
TZNAME:CDT
DTSTART:20260308T080000
END:DAYLIGHT
BEGIN:STANDARD
TZOFFSETFROM:-0500
TZOFFSETTO:-0600
TZNAME:CST
DTSTART:20261101T070000
END:STANDARD
END:VTIMEZONE
BEGIN:VEVENT
DTSTART;TZID=America/Chicago:20241022T100000
DTEND;TZID=America/Chicago:20241022T140000
DTSTAMP:20260421T054906
CREATED:20241016T150341Z
LAST-MODIFIED:20241016T154032Z
UID:10005777-1729591200-1729605600@www.ajcwheeling.com
SUMMARY:Techapalooza
DESCRIPTION: 
URL:https://www.ajcwheeling.com/event/techapalooza-3/
LOCATION:American Job Center in Pilsen\, 1700 W. 18th Street\, Chicago\, IL\, 60608\, United States
CATEGORIES:Hiring Event,Job Fair,Techapalooza
ATTACH;FMTTYPE=image/jpeg:https://www.ajcwheeling.com/wp-content/uploads/2024/10/Techapalooza-graphic.jpg
END:VEVENT
BEGIN:VEVENT
DTSTART;TZID=America/Chicago:20250514T100000
DTEND;TZID=America/Chicago:20250514T140000
DTSTAMP:20260421T054906
CREATED:20250506T002145Z
LAST-MODIFIED:20250512T185958Z
UID:10006092-1747216800-1747231200@www.ajcwheeling.com
SUMMARY:Careers de Mayo
DESCRIPTION:Discover and connect with community resources and employers at the seventh annual Careers de Mayo!\n\nMeet local organizations serving Pilsen and the surrounding communities\nEnjoy treats and sweets from local vendors\nNetwork and connect with employers seeking to hire\nAdvance your life and your career with our expert-led workshops!\nReceive giveaways and win prizes (including gift cards)!\n\n\nJob Seekers Register Here \n\n\nEmployers & Partners Register Here
URL:https://www.ajcwheeling.com/event/careers-de-mayo-2/
LOCATION:American Job Center in Pilsen\, 1700 W. 18th Street\, Chicago\, IL\, 60608\, United States
CATEGORIES:Hiring Event,Job Fair,Resource Fair
ATTACH;FMTTYPE=image/jpeg:https://www.ajcwheeling.com/wp-content/uploads/2025/04/CDM2025_LP_01-MCqafn.tmp_.jpg
END:VEVENT
BEGIN:VEVENT
DTSTART;TZID=America/Chicago:20260226T110000
DTEND;TZID=America/Chicago:20260226T150000
DTSTAMP:20260421T054906
CREATED:20260225T223804Z
LAST-MODIFIED:20260226T233248Z
UID:10006609-1772103600-1772118000@www.ajcwheeling.com
SUMMARY:Youth Job Fair 2026
DESCRIPTION:Your future starts here! Join the Youth Job Fair to meet hiring employers\, network\, and find your next big opportunity! \nWelcome to the Youth Job Fair 2026\nJoin us at the American Job Center in Pilsen for a day dedicated to empowering young talent! Connect with local employers\, explore training opportunities\, and get expert career advice to help you launch your future. Whether you’re just starting your job search or ready to take the next big step\, this event is your chance to make meaningful connections and discover what’s next. Mark your calendars for February 26\, 2026\, and get ready to jumpstart your career!
URL:https://www.ajcwheeling.com/event/youth-job-fair-2026/
LOCATION:American Job Center in Pilsen\, 1700 W. 18th Street\, Chicago\, IL\, 60608\, United States
CATEGORIES:Hiring Event,Job Fair
ATTACH;FMTTYPE=image/jpeg:https://www.ajcwheeling.com/wp-content/uploads/2026/01/Youth-Job-Fair-2026-Banner-2vE4KW.tmp_.jpg
END:VEVENT
END:VCALENDAR