BEGIN:VCALENDAR
VERSION:2.0
PRODID:-//American Job Center in Wheeling - ECPv6.0.13.1//NONSGML v1.0//EN
CALSCALE:GREGORIAN
METHOD:PUBLISH
X-WR-CALNAME:American Job Center in Wheeling
X-ORIGINAL-URL:https://www.ajcwheeling.com
X-WR-CALDESC:Events for American Job Center in Wheeling
REFRESH-INTERVAL;VALUE=DURATION:PT1H
X-Robots-Tag:noindex
X-PUBLISHED-TTL:PT1H
BEGIN:VTIMEZONE
TZID:America/Chicago
BEGIN:DAYLIGHT
TZOFFSETFROM:-0600
TZOFFSETTO:-0500
TZNAME:CDT
DTSTART:20240310T080000
END:DAYLIGHT
BEGIN:STANDARD
TZOFFSETFROM:-0500
TZOFFSETTO:-0600
TZNAME:CST
DTSTART:20241103T070000
END:STANDARD
END:VTIMEZONE
BEGIN:VEVENT
DTSTART;TZID=America/Chicago:20240409T093000
DTEND;TZID=America/Chicago:20240409T113000
DTSTAMP:20260424T053359
CREATED:20240312T201434Z
LAST-MODIFIED:20240409T011430Z
UID:10005366-1712655000-1712662200@www.ajcwheeling.com
SUMMARY:LinkedIn Basics - FREE - In Person\, Tuesday April 9\, 2024
DESCRIPTION:Take the LinkedIn Basics workshop to make your LinkedIn profile easy to find\, learn ways to find others and much more!\n\n\nI﻿nstructor Dee Reinhardt leads this highly interactive session.  Participants must have an active LinkedIn profile (and know your password) in order to register for this workshop.   \nTopics covered will include: \n•	Ways for you to be more visible on LinkedIn \n•	How to use tools like search\, advanced search\, groups and companies to find hiring  opportunities
URL:https://www.ajcwheeling.com/event/linkedin-basics-free-in-person-tuesday-april-9-2024/
LOCATION:American Job Center of Wheeling\, 1400 South Wolf Road\, #Building 200\, Suite 200\, Wheeling\, IL\, 60090\, United States
ATTACH;FMTTYPE=image/jpeg:https://www.ajcwheeling.com/wp-content/uploads/2024/03/01071040a5fda914718d75c259ab3d9b.jpg
END:VEVENT
END:VCALENDAR