BEGIN:VCALENDAR
VERSION:2.0
PRODID:-//American Job Center in Wheeling - ECPv6.0.13.1//NONSGML v1.0//EN
CALSCALE:GREGORIAN
METHOD:PUBLISH
X-ORIGINAL-URL:https://www.ajcwheeling.com
X-WR-CALDESC:Events for American Job Center in Wheeling
REFRESH-INTERVAL;VALUE=DURATION:PT1H
X-Robots-Tag:noindex
X-PUBLISHED-TTL:PT1H
BEGIN:VTIMEZONE
TZID:America/Chicago
BEGIN:DAYLIGHT
TZOFFSETFROM:-0600
TZOFFSETTO:-0500
TZNAME:CDT
DTSTART:20240310T080000
END:DAYLIGHT
BEGIN:STANDARD
TZOFFSETFROM:-0500
TZOFFSETTO:-0600
TZNAME:CST
DTSTART:20241103T070000
END:STANDARD
BEGIN:DAYLIGHT
TZOFFSETFROM:-0600
TZOFFSETTO:-0500
TZNAME:CDT
DTSTART:20250309T080000
END:DAYLIGHT
BEGIN:STANDARD
TZOFFSETFROM:-0500
TZOFFSETTO:-0600
TZNAME:CST
DTSTART:20251102T070000
END:STANDARD
END:VTIMEZONE
BEGIN:VEVENT
DTSTART;TZID=America/Chicago:20240620T100000
DTEND;TZID=America/Chicago:20240620T130000
DTSTAMP:20260424T031458
CREATED:20240507T210902Z
LAST-MODIFIED:20240507T211022Z
UID:10005519-1718877600-1718888400@www.ajcwheeling.com
SUMMARY:JOB FAIR - State Representatives Canty & Katz Muhl along with Cook County Commissioner Scott Britton
DESCRIPTION:JOB FAIR\nTHURSDAY\, June 20\n10 A.M. TO 1 P.M.\nCommunity Consolidated School District 21\n959 West Dundee Rd.\nWheeling\n \nThis job fair will connect job seekers with numerous employment opportunities in the local business community. \n \n  \n \nCanty Job Fair 6-20 (3) 1  (to download flyer)
URL:https://www.ajcwheeling.com/event/job-fair-state-representatives-canty-katz-muhl-along-with-cook-county-commissioner-scott-britton/
LOCATION:Community Consolidated School District 21\, 959 W Dundee Rd\, Wheeling\, IL\, 60090\, United States
CATEGORIES:Hiring Event,Job Fair
ATTACH;FMTTYPE=image/jpeg:https://www.ajcwheeling.com/wp-content/uploads/2024/05/2024.06.20-JOB-FAIR-GRAPHIC-COLOR.jpg
END:VEVENT
BEGIN:VEVENT
DTSTART;TZID=America/Chicago:20240620T100000
DTEND;TZID=America/Chicago:20240620T140000
DTSTAMP:20260424T031458
CREATED:20240604T174912Z
LAST-MODIFIED:20240604T175022Z
UID:10005591-1718877600-1718892000@www.ajcwheeling.com
SUMMARY:Job Fair!
DESCRIPTION:THURSDAY\, June 20\n10 A.M. TO 1 P.M.\nCommunity Consolidated School District 21\n959 West Dundee Rd.\, Wheeling
URL:https://www.ajcwheeling.com/event/job-fair-6/
LOCATION:Community Consolidated School District 21\, 959 W Dundee Rd\, Wheeling\, IL\, 60090\, United States
CATEGORIES:Hiring Event,Job Fair
ATTACH;FMTTYPE=image/jpeg:https://www.ajcwheeling.com/wp-content/uploads/2024/06/2024.06.20-JOB-FAIR-GRAPHIC-COLOR.jpg
END:VEVENT
BEGIN:VEVENT
DTSTART;TZID=America/Chicago:20250626T100000
DTEND;TZID=America/Chicago:20250626T130000
DTSTAMP:20260424T031458
CREATED:20250513T023925Z
LAST-MODIFIED:20250513T024420Z
UID:10006108-1750932000-1750942800@www.ajcwheeling.com
SUMMARY:JOB FAIR - State Representatives Canty & Katz Muhl along with Cook County Commissioner Scott Britton
DESCRIPTION:JOB FAIR\nTHURSDAY\, June 26\, 2025\n10 A.M. TO 1 P.M.\nCommunity Consolidated School District 21\n959 West Dundee Rd.\, Wheeling\, IL 60090\n \nThis job fair will connect job seekers with numerous employment opportunities in the local business community. \n \n  \n \n  2025.06.26 Job Fair Canty Katz Muhl Britton Color  (to download flyer)
URL:https://www.ajcwheeling.com/event/job-fair-state-representatives-canty-katz-muhl-along-with-cook-county-commissioner-scott-britton-2/
LOCATION:Community Consolidated School District 21\, 959 W Dundee Rd\, Wheeling\, IL\, 60090\, United States
CATEGORIES:Hiring Event,Job Fair
ATTACH;FMTTYPE=image/jpeg:https://www.ajcwheeling.com/wp-content/uploads/2025/05/2025.06.26-Canty-Job-Fair-jpg-version.jpg
END:VEVENT
END:VCALENDAR