BEGIN:VCALENDAR
VERSION:2.0
PRODID:-//American Job Center in Wheeling - ECPv6.0.13.1//NONSGML v1.0//EN
CALSCALE:GREGORIAN
METHOD:PUBLISH
X-ORIGINAL-URL:https://www.ajcwheeling.com
X-WR-CALDESC:Events for American Job Center in Wheeling
REFRESH-INTERVAL;VALUE=DURATION:PT1H
X-Robots-Tag:noindex
X-PUBLISHED-TTL:PT1H
BEGIN:VTIMEZONE
TZID:America/Chicago
BEGIN:DAYLIGHT
TZOFFSETFROM:-0600
TZOFFSETTO:-0500
TZNAME:CDT
DTSTART:20230312T080000
END:DAYLIGHT
BEGIN:STANDARD
TZOFFSETFROM:-0500
TZOFFSETTO:-0600
TZNAME:CST
DTSTART:20231105T070000
END:STANDARD
END:VTIMEZONE
BEGIN:VEVENT
DTSTART;TZID=America/Chicago:20230209T140000
DTEND;TZID=America/Chicago:20230209T170000
DTSTAMP:20260424T210854
CREATED:20230206T034401Z
LAST-MODIFIED:20230206T034401Z
UID:10004721-1675951200-1675962000@www.ajcwheeling.com
SUMMARY:Nursing Medical Specialty Interview Event
DESCRIPTION:NorthShore University HealthSystem\nNursing Medical Specialty Interview Event\nThursday\, February 9\n2 p.m. – 5 p.m. \nEvanston Hospital\n2650 Ridge Avenue\, Evanston\, IL\nIn the Doctors’ Dining Room \nDOWNLOAD DETAILS 2023.02.09 NorthShore Hiring event
URL:https://www.ajcwheeling.com/event/nursing-medical-specialty-interview-event/
LOCATION:Evanston Hospital\, 2650 Ridge Avenue\, Evanston\, IL\, 60201\, United States
CATEGORIES:Hiring Event
ATTACH;FMTTYPE=image/jpeg:https://www.ajcwheeling.com/wp-content/uploads/2023/02/working-slide.jpg
END:VEVENT
END:VCALENDAR