BEGIN:VCALENDAR
VERSION:2.0
PRODID:-//American Job Center in Wheeling - ECPv6.0.13.1//NONSGML v1.0//EN
CALSCALE:GREGORIAN
METHOD:PUBLISH
X-WR-CALNAME:American Job Center in Wheeling
X-ORIGINAL-URL:https://www.ajcwheeling.com
X-WR-CALDESC:Events for American Job Center in Wheeling
REFRESH-INTERVAL;VALUE=DURATION:PT1H
X-Robots-Tag:noindex
X-PUBLISHED-TTL:PT1H
BEGIN:VTIMEZONE
TZID:America/Chicago
BEGIN:DAYLIGHT
TZOFFSETFROM:-0600
TZOFFSETTO:-0500
TZNAME:CDT
DTSTART:20260308T080000
END:DAYLIGHT
BEGIN:STANDARD
TZOFFSETFROM:-0500
TZOFFSETTO:-0600
TZNAME:CST
DTSTART:20261101T070000
END:STANDARD
END:VTIMEZONE
BEGIN:VEVENT
DTSTART;TZID=America/Chicago:20260423T110000
DTEND;TZID=America/Chicago:20260423T130000
DTSTAMP:20260421T002103
CREATED:20260421T000953Z
LAST-MODIFIED:20260421T001738Z
UID:10006768-1776942000-1776949200@www.ajcwheeling.com
SUMMARY:CLEAN ENERGY JOBS FAIR
DESCRIPTION:
URL:https://www.ajcwheeling.com/event/clean-energy-jobs-fair/
LOCATION:Greater West Town Community Development Project\, 500 N. Sacramento Blvd.\, Chicago\, IL\, 60612\, United States
CATEGORIES:Job Fair
ATTACH;FMTTYPE=image/jpeg:https://www.ajcwheeling.com/wp-content/uploads/2026/04/2026.04.23-CLEAN-ENERGY-JOB-FAIR.jpg
ORGANIZER;CN="Greater%20West%20Town%20Community%20Development%20Project":MAILTO:info@gwtp.edu
END:VEVENT
END:VCALENDAR