BEGIN:VCALENDAR
VERSION:2.0
PRODID:-//American Job Center in Wheeling - ECPv6.0.13.1//NONSGML v1.0//EN
CALSCALE:GREGORIAN
METHOD:PUBLISH
X-WR-CALNAME:American Job Center in Wheeling
X-ORIGINAL-URL:https://www.ajcwheeling.com
X-WR-CALDESC:Events for American Job Center in Wheeling
REFRESH-INTERVAL;VALUE=DURATION:PT1H
X-Robots-Tag:noindex
X-PUBLISHED-TTL:PT1H
BEGIN:VTIMEZONE
TZID:America/Chicago
BEGIN:DAYLIGHT
TZOFFSETFROM:-0600
TZOFFSETTO:-0500
TZNAME:CDT
DTSTART:20230312T080000
END:DAYLIGHT
BEGIN:STANDARD
TZOFFSETFROM:-0500
TZOFFSETTO:-0600
TZNAME:CST
DTSTART:20231105T070000
END:STANDARD
BEGIN:DAYLIGHT
TZOFFSETFROM:-0600
TZOFFSETTO:-0500
TZNAME:CDT
DTSTART:20240310T080000
END:DAYLIGHT
BEGIN:STANDARD
TZOFFSETFROM:-0500
TZOFFSETTO:-0600
TZNAME:CST
DTSTART:20241103T070000
END:STANDARD
BEGIN:DAYLIGHT
TZOFFSETFROM:-0600
TZOFFSETTO:-0500
TZNAME:CDT
DTSTART:20250309T080000
END:DAYLIGHT
BEGIN:STANDARD
TZOFFSETFROM:-0500
TZOFFSETTO:-0600
TZNAME:CST
DTSTART:20251102T070000
END:STANDARD
END:VTIMEZONE
BEGIN:VEVENT
DTSTART;TZID=America/Chicago:20230405T173000
DTEND;TZID=America/Chicago:20230405T193000
DTSTAMP:20260424T082429
CREATED:20230313T224018Z
LAST-MODIFIED:20230313T233445Z
UID:10004816-1680715800-1680723000@www.ajcwheeling.com
SUMMARY:CAREER FORWARD
DESCRIPTION:2023.04.05 -31343 ADLT_flyr_Career Forward ’23 Event EFlyer STANDARD_v2
URL:https://www.ajcwheeling.com/event/career-forward/
LOCATION:Harper Wojcik Center\, 1200 W. Algonquin Road\, Palatine\, IL\, 60067\, United States
ATTACH;FMTTYPE=image/jpeg:https://www.ajcwheeling.com/wp-content/uploads/2023/03/2023.04.05-Harper-Career-Forward.jpg
END:VEVENT
BEGIN:VEVENT
DTSTART;TZID=America/Chicago:20250402T170000
DTEND;TZID=America/Chicago:20250402T190000
DTSTAMP:20260424T082429
CREATED:20250505T201657Z
LAST-MODIFIED:20250505T234028Z
UID:10006090-1743613200-1743620400@www.ajcwheeling.com
SUMMARY:Career Forward Event
DESCRIPTION:You’re invited!\nAn evening of inspiration and action designed exclusively for adults looking to restart or refresh their careers.\n5:00-7:15 p.m.\, Wednesday\, April 2 FREE\nWojcik Conference Center at Harper College\nregister now.\n(Enter from Roselle Road\, Park in Lot 14) Map and Directions\n1200 W. Algonquin Road\, Palatine
URL:https://www.ajcwheeling.com/event/career-forward-event/
LOCATION:Harper Wojcik Center\, 1200 W. Algonquin Road\, Palatine\, IL\, 60067\, United States
CATEGORIES:Job Fair
ATTACH;FMTTYPE=image/jpeg:https://www.ajcwheeling.com/wp-content/uploads/2025/05/2025.04.02-Career-Forward-GRAPHIC-ONLY.jpg
END:VEVENT
END:VCALENDAR