BEGIN:VCALENDAR
VERSION:2.0
PRODID:-//American Job Center in Wheeling - ECPv6.0.13.1//NONSGML v1.0//EN
CALSCALE:GREGORIAN
METHOD:PUBLISH
X-WR-CALNAME:American Job Center in Wheeling
X-ORIGINAL-URL:https://www.ajcwheeling.com
X-WR-CALDESC:Events for American Job Center in Wheeling
REFRESH-INTERVAL;VALUE=DURATION:PT1H
X-Robots-Tag:noindex
X-PUBLISHED-TTL:PT1H
BEGIN:VTIMEZONE
TZID:America/Chicago
BEGIN:DAYLIGHT
TZOFFSETFROM:-0600
TZOFFSETTO:-0500
TZNAME:CDT
DTSTART:20230312T080000
END:DAYLIGHT
BEGIN:STANDARD
TZOFFSETFROM:-0500
TZOFFSETTO:-0600
TZNAME:CST
DTSTART:20231105T070000
END:STANDARD
BEGIN:DAYLIGHT
TZOFFSETFROM:-0600
TZOFFSETTO:-0500
TZNAME:CDT
DTSTART:20240310T080000
END:DAYLIGHT
BEGIN:STANDARD
TZOFFSETFROM:-0500
TZOFFSETTO:-0600
TZNAME:CST
DTSTART:20241103T070000
END:STANDARD
END:VTIMEZONE
BEGIN:VEVENT
DTSTART;TZID=America/Chicago:20231017T090000
DTEND;TZID=America/Chicago:20231017T130000
DTSTAMP:20260424T053339
CREATED:20231010T174510Z
LAST-MODIFIED:20231010T192214Z
UID:10005139-1697533200-1697547600@www.ajcwheeling.com
SUMMARY:Fall Hospitality Hiring Event
DESCRIPTION:     \n \nTo download flyer click below \n2023.10.17- Hospitality Job Fair
URL:https://www.ajcwheeling.com/event/fall-hospitality-hiring-event/
LOCATION:Hospitality & Tourism Sector Center\, 218 S. Wabash Ave. Suite 540\, Chicago\, IL\, 60604\, United States
CATEGORIES:Hiring Event
ATTACH;FMTTYPE=image/jpeg:https://www.ajcwheeling.com/wp-content/uploads/2023/10/2023.10.17-hhc-hiring-event-1.jpg
END:VEVENT
BEGIN:VEVENT
DTSTART;TZID=America/Chicago:20240220T090000
DTEND;TZID=America/Chicago:20240220T120000
DTSTAMP:20260424T053339
CREATED:20240214T230008Z
LAST-MODIFIED:20240215T222556Z
UID:10005323-1708419600-1708430400@www.ajcwheeling.com
SUMMARY:Winter Hospitality Hiring Event
DESCRIPTION:The Partnership’s Hospitality & Tourism Sector Center Invites You to its Winter Hospitality Hiring Event!\nMeet and Interview with Employer-Partners:\nBon Appetit  Chicago’s First Lady Cruises  Chicago Public Schools\nEataly  Quest Foods  Rush University Medical Center  SMASHotels \nBusser  Fresh Pasta Lead  Salumi Formaggi Lead  Servers  Cooks  Bartenders\nArmed Security Officers  Registered Nurses  Food Patient Service Assistants\nLunchroom Porters  Lunchroom Managers……and more!\nPay ranges from $18/hour – $50K+ ANNUALLY!\nFebruary 20\, 2024  9:00am-12:00pm  218 S. Wabash Ave.\, Suite 540\, Chicago \n \n  \n \n2024.02.20 – HTSC – Winter Hiring Event Flyer 2-20-24 – Final Flyer\n 
URL:https://www.ajcwheeling.com/event/winter-hospitality-hiring-event/
LOCATION:Hospitality & Tourism Sector Center\, 218 S. Wabash Ave. Suite 540\, Chicago\, IL\, 60604\, United States
CATEGORIES:Hiring Event,Job Fair
ATTACH;FMTTYPE=image/jpeg:https://www.ajcwheeling.com/wp-content/uploads/2024/02/2024.02.20-Hospitality-Hiring-Event-Feb.-20.jpg
END:VEVENT
BEGIN:VEVENT
DTSTART;TZID=America/Chicago:20241113T100000
DTEND;TZID=America/Chicago:20241113T140000
DTSTAMP:20260424T053339
CREATED:20241101T193508Z
LAST-MODIFIED:20241101T193508Z
UID:10005805-1731492000-1731506400@www.ajcwheeling.com
SUMMARY:Now Hiring - Lot Polish Airlines Sodexo at OHare
DESCRIPTION:
URL:https://www.ajcwheeling.com/event/now-hiring-lot-polish-airlines-sodexo-at-ohare/
LOCATION:Hospitality & Tourism Sector Center\, 218 S. Wabash Ave. Suite 540\, Chicago\, IL\, 60604\, United States
ATTACH;FMTTYPE=image/jpeg:https://www.ajcwheeling.com/wp-content/uploads/2024/11/2024.11.13-Now-Hiring-graphic-for-Lot-Polish-Airline.jpg
END:VEVENT
END:VCALENDAR