BEGIN:VCALENDAR
VERSION:2.0
PRODID:-//American Job Center in Wheeling - ECPv6.0.13.1//NONSGML v1.0//EN
CALSCALE:GREGORIAN
METHOD:PUBLISH
X-ORIGINAL-URL:https://www.ajcwheeling.com
X-WR-CALDESC:Events for American Job Center in Wheeling
REFRESH-INTERVAL;VALUE=DURATION:PT1H
X-Robots-Tag:noindex
X-PUBLISHED-TTL:PT1H
BEGIN:VTIMEZONE
TZID:America/Chicago
BEGIN:DAYLIGHT
TZOFFSETFROM:-0600
TZOFFSETTO:-0500
TZNAME:CDT
DTSTART:20250309T080000
END:DAYLIGHT
BEGIN:STANDARD
TZOFFSETFROM:-0500
TZOFFSETTO:-0600
TZNAME:CST
DTSTART:20251102T070000
END:STANDARD
END:VTIMEZONE
BEGIN:VEVENT
DTSTART;TZID=America/Chicago:20250219T110000
DTEND;TZID=America/Chicago:20250219T130000
DTSTAMP:20260424T064253
CREATED:20250128T051649Z
LAST-MODIFIED:20250129T220320Z
UID:10005924-1739962800-1739970000@www.ajcwheeling.com
SUMMARY:Job Search and Career Services Drop-in Assistance (In Person)
DESCRIPTION:Location: Mt. Prospect Public Library\, 10 S. Emerson St. Mt. Prospect\, IL 60056 \nJoin us on Wednesday\, February 19\, 2025 at 11am (Chicago time)\, for an in-person event that will transform your job search game! \nBusiness and Career Services employment specialists are available for in-person assistance with career counseling and job search support. Bring your questions about navigating the job search and a copy of your resume or cover letter if you have one. Employers with questions about staffing and recruitment are also welcome. Drop-in sessions: may be limited to 15 minutes when others are waiting. \nDon’t miss this chance to gain a competitive edge in your job search. Register now and unlock the potential of your resume! \n  \nWorkshop Location: Mt. Prospect Public Library\, 10 S. Emerson St. Mt. Prospect\, IL 60056 \nIMPORTANT: For additional job fairs\, free workshops and free computer classes\, visit northcookjobcenter.com/events/ \nBCS is committed to providing all customers with quality\, professional services as well as a safe and comfortable learning environment. The use of our resources (in person or virtual) implies acceptance of our Customer Code of Conduct (see attached Code of Conduct)\, which is based on the principle of respect for all customers and staff. https://www.ajcwheeling.com/wp-content/uploads/2020/08/Customer-Code-of-Conduct-handout.pdf \nOur agency is an equal opportunity employer/program. Auxiliary aids and services are available upon request to individuals with disabilities. Funding for this program is made possible through a grant provided by the Chicago Cook Workforce Partnership. This workforce product was funded by a grant awarded by the U.S. Department of Labor’s Employment and Training Administration. For more information please visit ChiCookWorks.org/DOL-Funding \nQUESTIONS? EMAIL contact@bcsillinois.org \nSubject to change without notice.
URL:https://www.ajcwheeling.com/event/job-search-and-career-services-drop-in-assistance-in-person/
LOCATION:Mt. Prospect Public Library\, 10 S Emerson St\, Mt Prospect\, 60056
CATEGORIES:Job Search Workshop
ATTACH;FMTTYPE=image/png:https://www.ajcwheeling.com/wp-content/uploads/2024/08/HELP-i-need-help-now.png
ORGANIZER;CN="Business%20and%20Career%20Services%20Inc.":MAILTO:contact@bcsillinois.org
END:VEVENT
BEGIN:VEVENT
DTSTART;TZID=America/Chicago:20250319T110000
DTEND;TZID=America/Chicago:20250319T130000
DTSTAMP:20260424T064253
CREATED:20250303T172922Z
LAST-MODIFIED:20250303T172922Z
UID:10006012-1742382000-1742389200@www.ajcwheeling.com
SUMMARY:Job Search and Career Services Drop-in Assistance (In Person)
DESCRIPTION:Location: Mt. Prospect Public Library\, 10 S. Emerson St. Mt. Prospect\, IL 60056 \nJoin us on Wednesday\, March 19\, 2025 at 11am (Chicago time)\, for an in-person event that will transform your job search game! \nBusiness and Career Services employment specialists are available for in-person assistance with career counseling and job search support. Bring your questions about navigating the job search and a copy of your resume or cover letter if you have one. Employers with questions about staffing and recruitment are also welcome. Drop-in sessions: may be limited to 15 minutes when others are waiting. \nDon’t miss this chance to gain a competitive edge in your job search. Register now and unlock the potential of your resume! \n  \nWorkshop Location: Mt. Prospect Public Library\, 10 S. Emerson St. Mt. Prospect\, IL 60056 \nIMPORTANT: For additional job fairs\, free workshops and free computer classes\, visit northcookjobcenter.com/events/ \nBCS is committed to providing all customers with quality\, professional services as well as a safe and comfortable learning environment. The use of our resources (in person or virtual) implies acceptance of our Customer Code of Conduct (see attached Code of Conduct)\, which is based on the principle of respect for all customers and staff. https://www.ajcwheeling.com/wp-content/uploads/2020/08/Customer-Code-of-Conduct-handout.pdf \nOur agency is an equal opportunity employer/program. Auxiliary aids and services are available upon request to individuals with disabilities. Funding for this program is made possible through a grant provided by the Chicago Cook Workforce Partnership. This workforce product was funded by a grant awarded by the U.S. Department of Labor’s Employment and Training Administration. For more information please visit ChiCookWorks.org/DOL-Funding \nQUESTIONS? EMAIL contact@bcsillinois.org \nSubject to change without notice.
URL:https://www.ajcwheeling.com/event/job-search-and-career-services-drop-in-assistance-in-person-2/
LOCATION:Mt. Prospect Public Library\, 10 S Emerson St\, Mt Prospect\, 60056
CATEGORIES:Job Search Workshop
ATTACH;FMTTYPE=image/png:https://www.ajcwheeling.com/wp-content/uploads/2024/08/HELP-i-need-help-now.png
ORGANIZER;CN="Business%20and%20Career%20Services%20Inc.":MAILTO:contact@bcsillinois.org
END:VEVENT
BEGIN:VEVENT
DTSTART;TZID=America/Chicago:20250320T100000
DTEND;TZID=America/Chicago:20250320T130000
DTSTAMP:20260424T064253
CREATED:20250219T145444Z
LAST-MODIFIED:20250219T151049Z
UID:10005984-1742464800-1742475600@www.ajcwheeling.com
SUMMARY:IDES JOB FAIR
DESCRIPTION:IDES / Mt. Prospect Library 10 S Emerson Street\, Mt. Prospect\, IL 60056\nJoin us for a Job Fair at the Mt. Prospect Library where Job Seekers have the opportunity to meet over multiple employer who have immediate employment openings and are ready to hire. Bring copies of your resume and be prepared to interview with some employers on the spot!\nThursday\, March 20\, 2025 10:00am– 1:00pm\n 
URL:https://www.ajcwheeling.com/event/ides-job-fair-4/
LOCATION:Mt. Prospect Public Library\, 10 S Emerson St\, Mt Prospect\, 60056
CATEGORIES:Job Fair
ATTACH;FMTTYPE=image/jpeg:https://www.ajcwheeling.com/wp-content/uploads/2024/11/hired-youre-hired.jpg
END:VEVENT
END:VCALENDAR