BEGIN:VCALENDAR
VERSION:2.0
PRODID:-//American Job Center in Wheeling - ECPv6.0.13.1//NONSGML v1.0//EN
CALSCALE:GREGORIAN
METHOD:PUBLISH
X-ORIGINAL-URL:https://www.ajcwheeling.com
X-WR-CALDESC:Events for American Job Center in Wheeling
REFRESH-INTERVAL;VALUE=DURATION:PT1H
X-Robots-Tag:noindex
X-PUBLISHED-TTL:PT1H
BEGIN:VTIMEZONE
TZID:America/Chicago
BEGIN:DAYLIGHT
TZOFFSETFROM:-0600
TZOFFSETTO:-0500
TZNAME:CDT
DTSTART:20250309T080000
END:DAYLIGHT
BEGIN:STANDARD
TZOFFSETFROM:-0500
TZOFFSETTO:-0600
TZNAME:CST
DTSTART:20251102T070000
END:STANDARD
END:VTIMEZONE
BEGIN:VEVENT
DTSTART;TZID=America/Chicago:20250409T130000
DTEND;TZID=America/Chicago:20250409T143000
DTSTAMP:20260424T064248
CREATED:20250326T214810Z
LAST-MODIFIED:20250326T214810Z
UID:10006040-1744203600-1744209000@www.ajcwheeling.com
SUMMARY:Job Search and Career Services Drop-in Assistance (In Person)
DESCRIPTION:Location: Niles-Maine District Library\, 6960 W Oakton St. Niles\, IL 60714 \nJoin us on Wednesday\, April 9\,  2025 at 1p – 2:30pm (Chicago time)\, for an in-person event that will transform your job search game! \nBusiness and Career Services employment specialists are available for in-person assistance with career counseling and job search support. Bring your questions about navigating the job search and a copy of your resume or cover letter if you have one. Employers with questions about staffing and recruitment are also welcome. Drop-in sessions: may be limited to 15 minutes when others are waiting. \nDon’t miss this chance to gain a competitive edge in your job search. Register now and unlock the potential of your resume! \nIMPORTANT: For additional job fairs\, free workshops and free computer classes\, visit northcookjobcenter.com/events/ \nBCS is committed to providing all customers with quality\, professional services as well as a safe and comfortable learning environment. The use of our resources (in person or virtual) implies acceptance of our Customer Code of Conduct (see attached Code of Conduct)\, which is based on the principle of respect for all customers and staff. https://www.ajcwheeling.com/wp-content/uploads/2020/08/Customer-Code-of-Conduct-handout.pdf \nOur agency is an equal opportunity employer/program. Auxiliary aids and services are available upon request to individuals with disabilities. Funding for this program is made possible through a grant provided by the Chicago Cook Workforce Partnership. This workforce product was funded by a grant awarded by the U.S. Department of Labor’s Employment and Training Administration. For more information please visit ChiCookWorks.org/DOL-Funding \nQUESTIONS? EMAIL contact@bcsillinois.org \nSubject to change without notice.
URL:https://www.ajcwheeling.com/event/job-search-and-career-services-drop-in-assistance-in-person-3/
LOCATION:Niles-Maine District Library\, 6960 W Oakton St\, Niles\, IL\, 60714\, United States
CATEGORIES:Job Search Workshop
ATTACH;FMTTYPE=image/jpeg:https://www.ajcwheeling.com/wp-content/uploads/2025/03/2025.04-Drop-in-library-services-graphic.jpg
ORGANIZER;CN="Business%20and%20Career%20Services%20Inc.":MAILTO:contact@bcsillinois.org
END:VEVENT
END:VCALENDAR