BEGIN:VCALENDAR
VERSION:2.0
PRODID:-//American Job Center in Wheeling - ECPv6.0.13.1//NONSGML v1.0//EN
CALSCALE:GREGORIAN
METHOD:PUBLISH
X-WR-CALNAME:American Job Center in Wheeling
X-ORIGINAL-URL:https://www.ajcwheeling.com
X-WR-CALDESC:Events for American Job Center in Wheeling
REFRESH-INTERVAL;VALUE=DURATION:PT1H
X-Robots-Tag:noindex
X-PUBLISHED-TTL:PT1H
BEGIN:VTIMEZONE
TZID:America/Chicago
BEGIN:DAYLIGHT
TZOFFSETFROM:-0600
TZOFFSETTO:-0500
TZNAME:CDT
DTSTART:20230312T080000
END:DAYLIGHT
BEGIN:STANDARD
TZOFFSETFROM:-0500
TZOFFSETTO:-0600
TZNAME:CST
DTSTART:20231105T070000
END:STANDARD
END:VTIMEZONE
BEGIN:VEVENT
DTSTART;TZID=America/Chicago:20230325T090000
DTEND;TZID=America/Chicago:20230325T140000
DTSTAMP:20260424T151816
CREATED:20230314T004002Z
LAST-MODIFIED:20230314T004514Z
UID:10004819-1679734800-1679752800@www.ajcwheeling.com
SUMMARY:PACE bus - Hiring Event (in person)
DESCRIPTION:  \nPace Bus Hiring Event at Harper College! Looking for a great job? Meet with Pace Bus at this special pre-hire event at Harper College! This event will help prepare you for employment with Pace. \n 2023.03.25 -Pace hiring event flyer ArlingtonHts_3.25.2023   (DOWNLOAD flyer with DETAILS) \nSaturday March 25\, 2023\n9am – 2pm\nSESSION A at 9:30am (sharp)\nSESSION B at 11:30am (sharp)\nPACEBUS\n550 W. Algonquin Road\, Arlington Heights\, IL 60005\n  \n 
URL:https://www.ajcwheeling.com/event/pace-bus-hiring-event-in-person/
LOCATION:PACE\, 550 W. Algonquin Road\, Arlington Heights\, IL\, 60005\, United States
ATTACH;FMTTYPE=image/jpeg:https://www.ajcwheeling.com/wp-content/uploads/2023/03/2023.03.25-PACEBUS-HIRING-EVENT-JPG.jpg
END:VEVENT
END:VCALENDAR