BEGIN:VCALENDAR
VERSION:2.0
PRODID:-//American Job Center in Wheeling - ECPv6.0.13.1//NONSGML v1.0//EN
CALSCALE:GREGORIAN
METHOD:PUBLISH
X-WR-CALNAME:American Job Center in Wheeling
X-ORIGINAL-URL:https://www.ajcwheeling.com
X-WR-CALDESC:Events for American Job Center in Wheeling
REFRESH-INTERVAL;VALUE=DURATION:PT1H
X-Robots-Tag:noindex
X-PUBLISHED-TTL:PT1H
BEGIN:VTIMEZONE
TZID:America/Chicago
BEGIN:DAYLIGHT
TZOFFSETFROM:-0600
TZOFFSETTO:-0500
TZNAME:CDT
DTSTART:20230312T080000
END:DAYLIGHT
BEGIN:STANDARD
TZOFFSETFROM:-0500
TZOFFSETTO:-0600
TZNAME:CST
DTSTART:20231105T070000
END:STANDARD
END:VTIMEZONE
BEGIN:VEVENT
DTSTART;TZID=America/Chicago:20230816T180000
DTEND;TZID=America/Chicago:20230816T193000
DTSTAMP:20260424T040924
CREATED:20230807T225315Z
LAST-MODIFIED:20230807T225850Z
UID:10005059-1692208800-1692214200@www.ajcwheeling.com
SUMMARY:Cook County Tourism Alive Tourism Apprenticeship Program
DESCRIPTION:Cook County Tourism Alive Tourism Apprenticeship Program Information Session\n\nBy Tourism Diversity Matters \n \n\n\n\nRENAISSANCE SCHAUMBURG CONVENTION CENTER HOTEL \n1551 Thoreau Dr North\, Schaumburg\, IL 60173 \n\n\n\nWEDNESDAY\, AUGUST 16 2023\n6:00 PM — 7:30 PM CDT\n\nThe Cook County Tourism Alive Tourism Apprenticeship Program is a 480-hour paid opportunity for diverse professionals interested in tourism and hospitality careers. Options for this program are currently available at the Schaumburg Renaissance Convention Center Hotel. \nDuring this information session\, attendees will: \n\nLearn more about careers in the Tourism & Hospitality industry\nHave the opportunity to apply to be a candidate for the Apprenticeship Program\nParticipate in an onsite screening interview to be considered for the below open positions\n\nApply for the open positions below: \n\nCulinary Apprentice – https://jobs.marriott.com/marriott/jobs/23138725?lang=en-us\nRoom Operations Apprentice – https://jobs.marriott.com/marriott/jobs/23138729?lang=en-us\nLoss Prevention Apprentice – https://jobs.marriott.com/marriott/jobs/23138731?lang=en-us\n\nAt Renaissance Hotels\, we believe in helping our guests experience the DNA of the neighborhoods they are visiting. Our guests come to discover and uncover the unexpected\, dive into a new culture\, or make the most of a free evening. They see business travel as an adventure because they see all travel as an adventure. Where others may settle for the usual\, our guests see a chance to bring home a great story\, And so do we. \nWe’re looking for fellow spontaneous explorers to join our team to bring the spirit of the neighborhood to our guests. We want to invite you to discover career opportunities with Renaissance Hotels if you’re interested in this. In joining Renaissance Hotels\, you join a portfolio of brands with Marriott International. Be where you can do your best work. Begin your purpose\, belong to a unique global team\, and become the best version of yourself\, \nThe program is done in partnership with Renaissance Schaumburg Convention Center Hotel (program host)\, Cook County Tourism Alive and Tourism Diversity Matters. At the end of the program\, candidates will have gained on the job training to be prepared for a career in the Tourism & Hospitality industry. Only those who successfully complete the apprenticeship program will be offered a full-time position with the program host or another participating partner. \n \n 
URL:https://www.ajcwheeling.com/event/cook-county-tourism-alive-tourism-apprenticeship-program/
LOCATION:RENAISSANCE SCHAUMBURG CONVENTION CENTER HOTEL\, 1551 Thoreau Dr North\, Schaumburg\, IL\, 60173\, United States
ATTACH;FMTTYPE=image/png:https://www.ajcwheeling.com/wp-content/uploads/2023/08/CookCountyApprenticeInfoSessionFacebook.png
END:VEVENT
END:VCALENDAR