BEGIN:VCALENDAR
VERSION:2.0
PRODID:-//American Job Center in Wheeling - ECPv6.0.13.1//NONSGML v1.0//EN
CALSCALE:GREGORIAN
METHOD:PUBLISH
X-ORIGINAL-URL:https://www.ajcwheeling.com
X-WR-CALDESC:Events for American Job Center in Wheeling
REFRESH-INTERVAL;VALUE=DURATION:PT1H
X-Robots-Tag:noindex
X-PUBLISHED-TTL:PT1H
BEGIN:VTIMEZONE
TZID:America/Chicago
BEGIN:DAYLIGHT
TZOFFSETFROM:-0600
TZOFFSETTO:-0500
TZNAME:CDT
DTSTART:20250309T080000
END:DAYLIGHT
BEGIN:STANDARD
TZOFFSETFROM:-0500
TZOFFSETTO:-0600
TZNAME:CST
DTSTART:20251102T070000
END:STANDARD
END:VTIMEZONE
BEGIN:VEVENT
DTSTART;TZID=America/Chicago:20250430T100000
DTEND;TZID=America/Chicago:20250430T133000
DTSTAMP:20260424T104334
CREATED:20250408T151746Z
LAST-MODIFIED:20250408T151746Z
UID:10006065-1746007200-1746019800@www.ajcwheeling.com
SUMMARY:IDES JOB FAIR
DESCRIPTION:IDES / Rolling Meadows Library 3110 Martin Lane\, Rolling Meadows IL 60008\nJoin us for a Job Fair at the Rolling Meadows Library where Job Seekers have the opportunity to meet over multiple employer who have immediate employment openings and are ready to hire. Bring copies of your resume and be prepared to interview with some employers on the spot!\nWednesday\, April 30\, 2025 10:00am– 1:30pm\n 
URL:https://www.ajcwheeling.com/event/ides-job-fair-5/
LOCATION:Rolling Meadows Library\, 3110 Martin Lane\, Rolling Meadows\, IL\, 60008\, United States
CATEGORIES:Job Fair
ATTACH;FMTTYPE=image/jpeg:https://www.ajcwheeling.com/wp-content/uploads/2025/04/2025.04.30-IDES-JOB-FAIR-Rolling-Meadows-Library.jpg
END:VEVENT
END:VCALENDAR