BEGIN:VCALENDAR
VERSION:2.0
PRODID:-//American Job Center in Wheeling - ECPv6.0.13.1//NONSGML v1.0//EN
CALSCALE:GREGORIAN
METHOD:PUBLISH
X-ORIGINAL-URL:https://www.ajcwheeling.com
X-WR-CALDESC:Events for American Job Center in Wheeling
REFRESH-INTERVAL;VALUE=DURATION:PT1H
X-Robots-Tag:noindex
X-PUBLISHED-TTL:PT1H
BEGIN:VTIMEZONE
TZID:America/Chicago
BEGIN:DAYLIGHT
TZOFFSETFROM:-0600
TZOFFSETTO:-0500
TZNAME:CDT
DTSTART:20240310T080000
END:DAYLIGHT
BEGIN:STANDARD
TZOFFSETFROM:-0500
TZOFFSETTO:-0600
TZNAME:CST
DTSTART:20241103T070000
END:STANDARD
END:VTIMEZONE
BEGIN:VEVENT
DTSTART;TZID=America/Chicago:20240629T110000
DTEND;TZID=America/Chicago:20240629T140000
DTSTAMP:20260424T020251
CREATED:20240607T190034Z
LAST-MODIFIED:20240607T190034Z
UID:10005592-1719658800-1719669600@www.ajcwheeling.com
SUMMARY:COMMUNITY RESOURCE FAIR
DESCRIPTION:
URL:https://www.ajcwheeling.com/event/community-resource-fair/
LOCATION:Salvation Army Blue Island Worship & Community Center\, 2900 W 127th St.\, Blue Island\, IL\, 60406\, United States
CATEGORIES:Resource Fair
ATTACH;FMTTYPE=image/jpeg:https://www.ajcwheeling.com/wp-content/uploads/2024/06/Salvation-Army-Community-Fair-2024.jpg
END:VEVENT
END:VCALENDAR