BEGIN:VCALENDAR
VERSION:2.0
PRODID:-//American Job Center in Wheeling - ECPv6.0.13.1//NONSGML v1.0//EN
CALSCALE:GREGORIAN
METHOD:PUBLISH
X-ORIGINAL-URL:https://www.ajcwheeling.com
X-WR-CALDESC:Events for American Job Center in Wheeling
REFRESH-INTERVAL;VALUE=DURATION:PT1H
X-Robots-Tag:noindex
X-PUBLISHED-TTL:PT1H
BEGIN:VTIMEZONE
TZID:America/Chicago
BEGIN:DAYLIGHT
TZOFFSETFROM:-0600
TZOFFSETTO:-0500
TZNAME:CDT
DTSTART:20240310T080000
END:DAYLIGHT
BEGIN:STANDARD
TZOFFSETFROM:-0500
TZOFFSETTO:-0600
TZNAME:CST
DTSTART:20241103T070000
END:STANDARD
END:VTIMEZONE
BEGIN:VEVENT
DTSTART;TZID=America/Chicago:20240311T130000
DTEND;TZID=America/Chicago:20240311T150000
DTSTAMP:20260424T012812
CREATED:20240201T214231Z
LAST-MODIFIED:20240221T204843Z
UID:10005302-1710162000-1710169200@www.ajcwheeling.com
SUMMARY:Job Readiness: Resume prep\, elevator speech\, interview coaching and more
DESCRIPTION:Join us on Monday\, March 11\, 2024 for an in-person event that will transform your job search game! Learn secrets of job search strategies. \nThis IN-PERSON WORKSHOP is taught in two sessions: (You can register for one or the other session or both. You may arrive early or late – – or stay for both.)\n· 1pm – 2pm and 2pm – 3pm \n \n\nCreating Your Target Resumes – More critical than you think!\n\n\nGetting the interview – but not the job? Interview Success Secrets\n\n\nHow to “Work”” a Job Fair and get an offer~\n\nJoin us on Monday\, March 11\, 2024 for an in-person event that will transform your job search game! \nLocated at The Salvation Army\, 2900 Burr Oak Avenue\, Blue Island\, IL 60406\, this event is your opportunity to learn the secrets of job search strategies that hit the mark. \n(If session is full – please sign up for the waitlist.) \nWorkshop Location: The Salvation Army\, 2900 Burr Oak Avenue\, Blue Island\, IL 60406. \nPLEASE NOTE: \n\nRegistration closes at 7pm the day prior to workshop.\n\n\nWorkshops are for individuals age 18+.\n\n\nSubject to change without notice.\n\n\nIf you need to cancel\, please let us know so someone else can use your seat.\n\nUPCOMING EVENTS \n\n\nMarch 14th Job Fair & Hiring Event. Click for details!\n\n\nIMPORTANT: For additional job fairs\, free workshops and free computer classes\, visit northcookjobcenter.com/events/ \nBusiness and Career Services\, Inc. is committed to providing all customers with quality\, professional services as well as a safe and comfortable learning environment. The use of our resources (in person or virtual) implies acceptance of our Customer Code of Conduct (see attached Code of Conduct)\, which is based on the principle of respect for all customers and staff. https://www.ajcwheeling.com/wp-content/uploads/2020/08/Customer-Code-of-Conduct-handout.pdf \nOur agency is an equal opportunity employer/program. Auxiliary aids and services are available upon request to individuals with disabilities. Funding for this program is made possible through a grant provided by the Chicago Cook Workforce Partnership. This workforce product was funded by a grant awarded by the U.S. Department of Labor’s Employment and Training Administration. For more information please visit ChiCookWorks.org/DOL-Funding \n 
URL:https://www.ajcwheeling.com/event/job-readiness-resume-prep-elevator-speech-interview-coaching-and-more-2/
LOCATION:Salvation Army\, 2900 Burr Oak Avenue\, off 127th Street\, Blue Island\, IL\, 60406\, United States
CATEGORIES:Job Search Workshop
ATTACH;FMTTYPE=image/jpeg:https://www.ajcwheeling.com/wp-content/uploads/2024/02/iStock-1460998653-scaled.jpg
END:VEVENT
BEGIN:VEVENT
DTSTART;TZID=America/Chicago:20240314T130000
DTEND;TZID=America/Chicago:20240314T150000
DTSTAMP:20260424T012812
CREATED:20240201T214731Z
LAST-MODIFIED:20240305T165656Z
UID:10005304-1710421200-1710428400@www.ajcwheeling.com
SUMMARY:Hiring Event - In Person Job Fair
DESCRIPTION:Walk-ins Accepted! Register at the door! Attend this event for an On-the-Spot Interview with Conditional Offers of Employment available. \n \n  \nWalk-ins accepted! Register at the Door! Great employers with fantastic jobs!\nBring your resumes and a smile – Walk in any time!\n\nIn-Person Hiring Event\nThursday\, March 14th at 1:00 PM -3:00 PM\n  \nCheck out these great jobs with multiple employers! \n\nEmployer list and jobs are listed on the registration site.\nCLICK REGISTER HERE to see employers and jobs. \n\n\n  \nJoin us for an On-the-Spot Interview – there’s something for everyone on our team. Find out what’s best for you and your schedule. \nRegistration is strongly recommended. Walk-ins welcome! If registration is full – please walk in and register at the door. 🙂 \n \nPlease bring 10 copies of your resume and your smile. Be ready to interview. \nArrive early: 12 noon to 2pm – If you need help practicing your “elevator speech” or printing your resume\, stop into the Career Mini-Mart Resource Center. We have printers and a computer lab where you can research companies\, print your resume and create/practice your elevator speech. \nJob Fair Location: \nSalvation Army \n2900 Burr Oak Avenue\, Blue Island\, IL 60406 \n(off 127th Street) \nQuestions? contact@bcsillinois.org \nOther job fairs\, events\, workshops and classes here: https://www.ajcwheeling.com/events/ \nBusiness and Career Services Inc. is committed to providing all customers with quality\, professional services as well as a safe and comfortable learning environment. The use of our resources (in person or virtual) implies acceptance of our Customer Code of Conduct (see attached Code of Conduct)\, which is based on the principle of respect for all customers and staff. https://www.ajcwheeling.com/wp-content/uploads/2020/08/Customer-Code-of-Conduct-handout.pdf \nIMPORTANT: For additional virtual job fairs\, free workshops and free computer classes\, visit northcookjobcenter.com/events/ \nOur agency is an equal opportunity employer/program. Auxiliary aids and services are available upon request to individuals with disabilities. Funding for this program is made possible through a grant provided by the Chicago Cook Workforce Partnership. This workforce product was funded by a grant awarded by the U.S. Department of Labor’s Employment and Training Administration. For more information please visit ChiCookWorks.org/DOL-Funding. \nSubject to change without notice.
URL:https://www.ajcwheeling.com/event/hiring-event-in-person-job-fair-4/
LOCATION:Salvation Army\, 2900 Burr Oak Avenue\, off 127th Street\, Blue Island\, IL\, 60406\, United States
CATEGORIES:Hiring Event,Job Fair
ATTACH;FMTTYPE=image/jpeg:https://www.ajcwheeling.com/wp-content/uploads/2024/02/iStock-1264977303-scaled.jpg
END:VEVENT
END:VCALENDAR