BEGIN:VCALENDAR
VERSION:2.0
PRODID:-//American Job Center in Wheeling - ECPv6.0.13.1//NONSGML v1.0//EN
CALSCALE:GREGORIAN
METHOD:PUBLISH
X-WR-CALNAME:American Job Center in Wheeling
X-ORIGINAL-URL:https://www.ajcwheeling.com
X-WR-CALDESC:Events for American Job Center in Wheeling
REFRESH-INTERVAL;VALUE=DURATION:PT1H
X-Robots-Tag:noindex
X-PUBLISHED-TTL:PT1H
BEGIN:VTIMEZONE
TZID:America/Chicago
BEGIN:DAYLIGHT
TZOFFSETFROM:-0600
TZOFFSETTO:-0500
TZNAME:CDT
DTSTART:20230312T080000
END:DAYLIGHT
BEGIN:STANDARD
TZOFFSETFROM:-0500
TZOFFSETTO:-0600
TZNAME:CST
DTSTART:20231105T070000
END:STANDARD
END:VTIMEZONE
BEGIN:VEVENT
DTSTART;TZID=America/Chicago:20230523T090000
DTEND;TZID=America/Chicago:20230523T140000
DTSTAMP:20260424T115354
CREATED:20230503T162831Z
LAST-MODIFIED:20230503T163154Z
UID:10004891-1684832400-1684850400@www.ajcwheeling.com
SUMMARY:Career Connector Hiring Event
DESCRIPTION:  \nCLICK BELOW to Download flyer with complete details: (English/Spanish) \n2023.05.23 -South Suburban Career Connector Hiring Event May 2023 ENG
URL:https://www.ajcwheeling.com/event/career-connector-hiring-event/
LOCATION:South Suburban Cook County American Job Center\, 16845 S. Halsted St.\, Harvey\, IL\, 60426\, United States
CATEGORIES:Hiring Event,Job Fair
ATTACH;FMTTYPE=image/jpeg:https://www.ajcwheeling.com/wp-content/uploads/2023/05/2023.05.23-Career-Connector-Harvey.jpg
END:VEVENT
END:VCALENDAR