BEGIN:VCALENDAR
VERSION:2.0
PRODID:-//American Job Center in Wheeling - ECPv6.0.13.1//NONSGML v1.0//EN
CALSCALE:GREGORIAN
METHOD:PUBLISH
X-ORIGINAL-URL:https://www.ajcwheeling.com
X-WR-CALDESC:Events for American Job Center in Wheeling
REFRESH-INTERVAL;VALUE=DURATION:PT1H
X-Robots-Tag:noindex
X-PUBLISHED-TTL:PT1H
BEGIN:VTIMEZONE
TZID:America/Chicago
BEGIN:DAYLIGHT
TZOFFSETFROM:-0600
TZOFFSETTO:-0500
TZNAME:CDT
DTSTART:20230312T080000
END:DAYLIGHT
BEGIN:STANDARD
TZOFFSETFROM:-0500
TZOFFSETTO:-0600
TZNAME:CST
DTSTART:20231105T070000
END:STANDARD
END:VTIMEZONE
BEGIN:VEVENT
DTSTART;TZID=America/Chicago:20230809T100000
DTEND;TZID=America/Chicago:20230809T140000
DTSTAMP:20260424T010717
CREATED:20230808T001357Z
LAST-MODIFIED:20230808T013002Z
UID:10005062-1691575200-1691589600@www.ajcwheeling.com
SUMMARY:U.S. Postal Service Hiring Event
DESCRIPTION:
URL:https://www.ajcwheeling.com/event/u-s-postal-service-hiring-event/
LOCATION:St Sabina Church\, 1210 W. 78th Place\, Chicago\, IL\, 60620\, United States
CATEGORIES:Hiring Event
ATTACH;FMTTYPE=image/jpeg:https://www.ajcwheeling.com/wp-content/uploads/2023/08/2023.08.09-US-Postal-Service-Hiring-Event.jpg
END:VEVENT
BEGIN:VEVENT
DTSTART;TZID=America/Chicago:20230824T100000
DTEND;TZID=America/Chicago:20230824T130000
DTSTAMP:20260424T010717
CREATED:20230822T205140Z
LAST-MODIFIED:20230822T205140Z
UID:10005099-1692871200-1692882000@www.ajcwheeling.com
SUMMARY:CPS Job Fair
DESCRIPTION:CPS Job Fair \nThursday Aug 24\, 2023 \n10am to 1pm \nSt. Sabina Church (McMahon Hall) \n1210 W 78th Place\, Chicago\, IL 60620
URL:https://www.ajcwheeling.com/event/cps-job-fair/
LOCATION:St Sabina Church\, 1210 W. 78th Place\, Chicago\, IL\, 60620\, United States
CATEGORIES:Job Fair
ATTACH;FMTTYPE=image/jpeg:https://www.ajcwheeling.com/wp-content/uploads/2023/08/2023.08.24-CPS-JOB-FAIR.jpg
END:VEVENT
BEGIN:VEVENT
DTSTART;TZID=America/Chicago:20231115T100000
DTEND;TZID=America/Chicago:20231115T140000
DTSTAMP:20260424T010717
CREATED:20231114T162510Z
LAST-MODIFIED:20231114T162546Z
UID:10005185-1700042400-1700056800@www.ajcwheeling.com
SUMMARY:Job Fair: Transportation\, Distribution & Logistics
DESCRIPTION:November 15\, 2023 \n10am – 2pm
URL:https://www.ajcwheeling.com/event/job-fair-transportation-distribution-logistics/
LOCATION:St Sabina Church\, 1210 W. 78th Place\, Chicago\, IL\, 60620\, United States
CATEGORIES:Hiring Event,Job Fair
ATTACH;FMTTYPE=image/jpeg:https://www.ajcwheeling.com/wp-content/uploads/2023/11/2023.11.15-St-Sabina-Hiring-Event.jpg
END:VEVENT
END:VCALENDAR