BEGIN:VCALENDAR
VERSION:2.0
PRODID:-//American Job Center in Wheeling - ECPv6.0.13.1//NONSGML v1.0//EN
CALSCALE:GREGORIAN
METHOD:PUBLISH
X-ORIGINAL-URL:https://www.ajcwheeling.com
X-WR-CALDESC:Events for American Job Center in Wheeling
REFRESH-INTERVAL;VALUE=DURATION:PT1H
X-Robots-Tag:noindex
X-PUBLISHED-TTL:PT1H
BEGIN:VTIMEZONE
TZID:America/Chicago
BEGIN:DAYLIGHT
TZOFFSETFROM:-0600
TZOFFSETTO:-0500
TZNAME:CDT
DTSTART:20230312T080000
END:DAYLIGHT
BEGIN:STANDARD
TZOFFSETFROM:-0500
TZOFFSETTO:-0600
TZNAME:CST
DTSTART:20231105T070000
END:STANDARD
END:VTIMEZONE
BEGIN:VEVENT
DTSTART;TZID=America/Chicago:20230914T130000
DTEND;TZID=America/Chicago:20230914T160000
DTSTAMP:20260424T053221
CREATED:20230911T185345Z
LAST-MODIFIED:20230911T185544Z
UID:10005118-1694696400-1694707200@www.ajcwheeling.com
SUMMARY:Hiring Event at The Mather Evanston
DESCRIPTION:For complete details and job list CLICK BELOW \n2023.09.14 Mather Job Fair TME_JobFairSEPT14.23Flyer
URL:https://www.ajcwheeling.com/event/hiring-event-at-the-mather-evanston/
LOCATION:The Mather Evanston\, 425 Davis Street\, Evanston\, IL\, 60201\, United States
CATEGORIES:Hiring Event
ATTACH;FMTTYPE=image/jpeg:https://www.ajcwheeling.com/wp-content/uploads/2023/09/2023.09.14-Mather-Job-Fair-art.jpg
END:VEVENT
END:VCALENDAR