BEGIN:VCALENDAR
VERSION:2.0
PRODID:-//American Job Center in Wheeling - ECPv6.0.13.1//NONSGML v1.0//EN
CALSCALE:GREGORIAN
METHOD:PUBLISH
X-WR-CALNAME:American Job Center in Wheeling
X-ORIGINAL-URL:https://www.ajcwheeling.com
X-WR-CALDESC:Events for American Job Center in Wheeling
REFRESH-INTERVAL;VALUE=DURATION:PT1H
X-Robots-Tag:noindex
X-PUBLISHED-TTL:PT1H
BEGIN:VTIMEZONE
TZID:America/Chicago
BEGIN:DAYLIGHT
TZOFFSETFROM:-0600
TZOFFSETTO:-0500
TZNAME:CDT
DTSTART:20220313T080000
END:DAYLIGHT
BEGIN:STANDARD
TZOFFSETFROM:-0500
TZOFFSETTO:-0600
TZNAME:CST
DTSTART:20221106T070000
END:STANDARD
BEGIN:DAYLIGHT
TZOFFSETFROM:-0600
TZOFFSETTO:-0500
TZNAME:CDT
DTSTART:20230312T080000
END:DAYLIGHT
BEGIN:STANDARD
TZOFFSETFROM:-0500
TZOFFSETTO:-0600
TZNAME:CST
DTSTART:20231105T070000
END:STANDARD
BEGIN:DAYLIGHT
TZOFFSETFROM:-0600
TZOFFSETTO:-0500
TZNAME:CDT
DTSTART:20240310T080000
END:DAYLIGHT
BEGIN:STANDARD
TZOFFSETFROM:-0500
TZOFFSETTO:-0600
TZNAME:CST
DTSTART:20241103T070000
END:STANDARD
BEGIN:DAYLIGHT
TZOFFSETFROM:-0600
TZOFFSETTO:-0500
TZNAME:CDT
DTSTART:20250309T080000
END:DAYLIGHT
BEGIN:STANDARD
TZOFFSETFROM:-0500
TZOFFSETTO:-0600
TZNAME:CST
DTSTART:20251102T070000
END:STANDARD
END:VTIMEZONE
BEGIN:VEVENT
DTSTART;TZID=America/Chicago:20220930T100000
DTEND;TZID=America/Chicago:20220930T150000
DTSTAMP:20260424T045009
CREATED:20220912T042058Z
LAST-MODIFIED:20220912T042159Z
UID:10004277-1664532000-1664550000@www.ajcwheeling.com
SUMMARY:Financial Services Career Fair (In person)
DESCRIPTION:Financial Services Career Fair: The Partnership\, Chicago City Treasurer\, and partners are hosting a Financial Empowerment Summit and Financial Services Career Fair! Participants will be able to connect with leading employers in the financial services industry. Join us from Friday\, September 30 to Saturday\, October 1.
URL:https://www.ajcwheeling.com/event/financial-services-career-fair-in-person/
LOCATION:UIC Isadore and Sadie Dorin Forum\, 725 W Roosevelt Rd\, Chicago\, IL\, 60608\, United States
END:VEVENT
BEGIN:VEVENT
DTSTART;TZID=America/Chicago:20250626T093000
DTEND;TZID=America/Chicago:20250626T160000
DTSTAMP:20260424T045009
CREATED:20250602T211850Z
LAST-MODIFIED:20250602T212240Z
UID:10006133-1750930200-1750953600@www.ajcwheeling.com
SUMMARY:Cook County Job Fair
DESCRIPTION:Cook County is Hiring!\nJoin Our Team!\n  \nJoin us for our inaugural Cook County Job Fair at the University of Illinois-Chicago Isadore and Sadie Dorin Forum to discover exciting career opportunities within Cook County Government. Learn about about County jobs and apply on-site! County agencies are hiring for management\, professional\, skilled trades and administrative/clerical positions. We welcome ALL job seekers including those recently impacted by federal agency layoffs. \nOffices Under the President\nAssessor’s Office\nChief Judge\nCounty Clerk\nSheriff’s Office\nClerk of the Circuit Court\nState’s Attorney Office\nForest Preserves\nBoard of Review\nCook County Health & Hospitals System
URL:https://www.ajcwheeling.com/event/cook-county-job-fair/
LOCATION:UIC Isadore and Sadie Dorin Forum\, 725 W Roosevelt Rd\, Chicago\, IL\, 60608\, United States
CATEGORIES:Hiring Event,Job Fair
ATTACH;FMTTYPE=image/jpeg:https://www.ajcwheeling.com/wp-content/uploads/2025/06/2025.06.26-Cook-County-Hiring-Event.jpg
END:VEVENT
END:VCALENDAR