BEGIN:VCALENDAR
VERSION:2.0
PRODID:-//American Job Center in Wheeling - ECPv6.0.13.1//NONSGML v1.0//EN
CALSCALE:GREGORIAN
METHOD:PUBLISH
X-WR-CALNAME:American Job Center in Wheeling
X-ORIGINAL-URL:https://www.ajcwheeling.com
X-WR-CALDESC:Events for American Job Center in Wheeling
REFRESH-INTERVAL;VALUE=DURATION:PT1H
X-Robots-Tag:noindex
X-PUBLISHED-TTL:PT1H
BEGIN:VTIMEZONE
TZID:America/Chicago
BEGIN:DAYLIGHT
TZOFFSETFROM:-0600
TZOFFSETTO:-0500
TZNAME:CDT
DTSTART:20230312T080000
END:DAYLIGHT
BEGIN:STANDARD
TZOFFSETFROM:-0500
TZOFFSETTO:-0600
TZNAME:CST
DTSTART:20231105T070000
END:STANDARD
END:VTIMEZONE
BEGIN:VEVENT
DTSTART;TZID=America/Chicago:20230928T100000
DTEND;TZID=America/Chicago:20230928T140000
DTSTAMP:20260424T021121
CREATED:20230807T231506Z
LAST-MODIFIED:20230808T020450Z
UID:10005060-1695895200-1695909600@www.ajcwheeling.com
SUMMARY:Prepare for the Peak Hiring Season
DESCRIPTION:Prepare for the Peak Hiring Season \nSeptember 28\, 2023 • 10:00am – 2:00pm \n\n\n\n\nVillage of Richton Park Community Center\n4445 Sauk Trail\, Richton Park\, IL 60471 \nThis Career Connector is hosted at the Village of Richton Park Community Center located at 4445 Sauk Trail\, Richton Park\, IL 60471. \nThe Cook County Career Connector program promotes a more inclusive and equitable economy as Cook County emerges from the pandemic by connecting County residents to quality jobs and connecting County employers to a skilled and diverse talent pool. This program is sponsored by Cook County and The Chicago Cook Workforce Partnership. \nDiscover your path to a meaningful career.
URL:https://www.ajcwheeling.com/event/prepare-for-the-peak-hiring-season/
LOCATION:Village of Richton Park Community Center\, 4445 Sauk Trail\, Richton Park\, IL\, 60471\, United States
CATEGORIES:Resource Fair
ATTACH;FMTTYPE=image/jpeg:https://www.ajcwheeling.com/wp-content/uploads/2023/08/cccc_logo.jpg
END:VEVENT
END:VCALENDAR