BEGIN:VCALENDAR
VERSION:2.0
PRODID:-//American Job Center in Wheeling - ECPv6.0.13.1//NONSGML v1.0//EN
CALSCALE:GREGORIAN
METHOD:PUBLISH
X-WR-CALNAME:American Job Center in Wheeling
X-ORIGINAL-URL:https://www.ajcwheeling.com
X-WR-CALDESC:Events for American Job Center in Wheeling
REFRESH-INTERVAL;VALUE=DURATION:PT1H
X-Robots-Tag:noindex
X-PUBLISHED-TTL:PT1H
BEGIN:VTIMEZONE
TZID:America/Chicago
BEGIN:DAYLIGHT
TZOFFSETFROM:-0600
TZOFFSETTO:-0500
TZNAME:CDT
DTSTART:20250309T080000
END:DAYLIGHT
BEGIN:STANDARD
TZOFFSETFROM:-0500
TZOFFSETTO:-0600
TZNAME:CST
DTSTART:20251102T070000
END:STANDARD
END:VTIMEZONE
BEGIN:VEVENT
DTSTART;TZID=America/Chicago:20250327T100000
DTEND;TZID=America/Chicago:20250327T140000
DTSTAMP:20260424T053340
CREATED:20250317T143051Z
LAST-MODIFIED:20250317T162812Z
UID:10006015-1743069600-1743084000@www.ajcwheeling.com
SUMMARY:Techapalooza for Job Seekers
DESCRIPTION:Welcome to Techapalooza for Job Seekers | 03.27.25! \nJoin us at Village of Richton Park for a day filled with tech workshops\, networking opportunities\, and career advice to help you land your dream job. Whether you’re a tech enthusiast looking to break into the industry or a seasoned professional seeking new opportunities\, this event is perfect for you. Don’t miss out on this chance to connect with industry experts and fellow job seekers. Mark your calendars for 03.27.2025 and get ready to take your career to the next level!
URL:https://www.ajcwheeling.com/event/techapalooza-for-job-seekers/
LOCATION:Village of Richton Park\, 4445 Sauk Trail\, Richton Park\, IL\, 60471\, United States
CATEGORIES:Hiring Event,Job Fair,Resource Fair
ATTACH;FMTTYPE=image/jpeg:https://www.ajcwheeling.com/wp-content/uploads/2025/03/2025.03.27-Techapalooza.jpg
END:VEVENT
END:VCALENDAR